{"text_format":"1","workbook":"xlsx","n_sheets":4,"sheets":["GM aktas","Suvestine","darbinis","Rekvizitai"],"not_rendered":{"charts":0,"images":1,"macros":1,"external_links":0,"defined_names":33,"comments":1,"pivot_tables":0},"unopened":[],"bounds":{"document_bytes":16777216,"sheet_cells":100000,"rows_first":2000,"rows_last":500,"rows_between":2000,"halvings":0,"cell_chars":16384,"cell_head_chars":4096},"cells_cut":0,"cells_raw":0,"read":"whole","date_system":"1900"}

{"sheet":"GM aktas","index":0,"n_rows":344,"n_cols":15,"rows_kept":344,"cut":false,"hidden":false,"merged":[[339,5,339,6],[342,5,342,6],[18,2,18,4],[20,2,20,4],[22,2,22,4],[1,0,1,7],[12,2,12,4],[14,2,14,4],[16,2,16,4],[2,0,2,7],[6,2,6,4],[3,0,3,7],[8,2,8,4],[10,2,10,4],[15,2,15,4]]}
[null,null,null,null,null,null,"Priedas Nr. 2"]
["GRĮŽTAMŲJŲ MEDŽIAGŲ AKTAS"]
["Rangovui parduodamoms medžiagoms"]
["Akto forma galioja iki 2026.06.30"]
[]
[]
["1.","Rangovas","pasirinkti",null,null,null,{"$f":"IF($C$7=\"pasirinkti\",\"\",\"Rangovas\")","v":""}]
[]
["2.","Rangos darbų sutarties Nr.","Įveskite Sutarties Nr.",null,null,null,{"$f":"IF($C$7=\"pasirinkti\",\"\",VLOOKUP($C$7,Rekvizitai!$A:$E,2,0))","v":""}]
[]
["3.","Rangos darbų užsakymo Nr. (iš TIVIS)","Užpildyti",null,null,null,{"$f":"IF($C$7=\"pasirinkti\",\"\",VLOOKUP($C$7,Rekvizitai!$A:$E,3,0))","v":""}]
[]
["4.","Objekto pavadinimas pagal TIVIS:","Užpildyti",null,null,null,{"$f":"IF($C$7=\"pasirinkti\",\"\",VLOOKUP($C$7,Rekvizitai!$A:$E,4,0))","v":""}]
[]
["5.","Investicinis Nr./Darbų Nr.  (iš TIVIS)","Užpildyti",null,null,null,{"$f":"IF($C$7=\"pasirinkti\",\"\",VLOOKUP($C$7,Rekvizitai!$A:$E,5,0))","v":""}]
["6.","Objekto Nr. (iš TIVIS)","Užpildyti"]
["7.","Grįžtamųjų medžiagų atsiradimo priežastis: ","pasirinkti"]
[]
["8.","GM akto pateikimo data:","202x-xx-xx",null,null,null,"Pardavėjas:"]
[]
["9.","Atliktų darbų akto* pateikimo data:","202x-xx-xx",null,null,null,"AB „Energijos skirstymo operatorius“",null,null,null,null,null,null,null,{"$f":"((IF(C9=\"Įveskite Sutarties Nr.\",1,0))+(IF(C7=\"PASIRINKTI\",1,0))+(IF(C11=\"UŽPILDYTI\",1,0))+(IF(C13=\"UŽPILDYTI\",1,0))+(IF(C15=\"UŽPILDYTI\",1,0))+(IF(C17=\"PASIRINKTI\",1,0))+IF(C19=\"202*-XX-XX\",1,IF(C19>(TODAY()+5),1,0))+(IF(C21=\"202*-XX-XX\",1,0))+(IF(F340=\"\",1,0))+(IF(F343=\"\",1,0)))+(SUM(J30:J219))+O22","v":10}]
[null,null,null,null,null,null,"Laisvės pr. 10, LT-04215 Vilnius ",null,null,null,null,null,null,null,{"$f":"IF(C17=\"6111007 Medžiagų nurašymas\",0,IF(C23=\"užpildyti\",1,IF(C23=\"\",1,0)))","v":1}]
["10.","Objekto Inventorinis Nr.","Užpildyti",null,null,null,"Įmonės kodas 304151376"]
[null,null,null,null,null,null,"PVM kodas LT100009860612"]
["*įkainių taikymo laikotarpis nustatomas pagal Atliktų darbų akto pateikimo Užsakovui datą."]
[]
[]
["Eil. Nr.","Grįžtamosios medžiagos (prekės) pavadinimas","Mato vnt. ","Grįžtamosios medžiagos (prekės) 1 mato vnt. svoris, kg","Faktiškai rastas kiekis mato vienetais.","Suma, Eur be PVM\n","Dynamics kodas","Dynamics kodas",1]
[null,"Metalo konstrukcijos"]
[1,"Traversa T-1","vnt.",0.7,null,{"$f":"(VLOOKUP(G30,Suvestine!B:D,3,0))*(E30*D30)","v":0},22101000540017,22101000540017,{"$f":"IF(E30<>\"\",1,0)","v":0}]
[2,"Traversa T-2","vnt.",1.7,null,{"$f":"(VLOOKUP(G31,Suvestine!B:D,3,0))*(E31*D31)","v":0},22101000540017,22101000540017,{"$f":"IF(E31<>\"\",1,0)","v":0}]
[3,"Traversa I-1","vnt.",1.7,null,{"$f":"(VLOOKUP(G32,Suvestine!B:D,3,0))*(E32*D32)","v":0},22101000540017,22101000540017,0]
[4,"Traversa I-2","vnt.",3.9,null,{"$f":"(VLOOKUP(G33,Suvestine!B:D,3,0))*(E33*D33)","v":0},22101000540017,22101000540017,0]
[5,"Traversa K-1","vnt.",1.5,null,{"$f":"(VLOOKUP(G34,Suvestine!B:D,3,0))*(E34*D34)","v":0},22101000540017,22101000540017,0]
[6,"Traversa K-2","vnt.",3.6,null,{"$f":"(VLOOKUP(G35,Suvestine!B:D,3,0))*(E35*D35)","v":0},22101000540017,22101000540017,0]
[7,"Ramsčio konstrukcija PTM-1,1","vnt.",4.2,null,{"$f":"(VLOOKUP(G36,Suvestine!B:D,3,0))*(E36*D36)","v":0},22101000540017,22101000540017,0]
[8,"Ramsčio konstrukcija PTM-2,7","vnt.",8,null,{"$f":"(VLOOKUP(G37,Suvestine!B:D,3,0))*(E37*D37)","v":0},22101000540017,22101000540017,0]
[9,"Viršūnė T","vnt.",3.5,null,{"$f":"(VLOOKUP(G38,Suvestine!B:D,3,0))*(E38*D38)","v":0},22101000540017,22101000540017,0]
[10,"Traversa T","vnt.",6.6,null,{"$f":"(VLOOKUP(G39,Suvestine!B:D,3,0))*(E39*D39)","v":0},22101000540017,22101000540017,0]
[11,"Viršūnė TA","vnt.",5.5,null,{"$f":"(VLOOKUP(G40,Suvestine!B:D,3,0))*(E40*D40)","v":0},22101000540017,22101000540017,0]
[12,"Traversa TA","vnt.",9,null,{"$f":"(VLOOKUP(G41,Suvestine!B:D,3,0))*(E41*D41)","v":0},22101000540017,22101000540017,0]
[13,"Viršūnė TK-9","vnt.",5.0999999999999996,null,{"$f":"(VLOOKUP(G42,Suvestine!B:D,3,0))*(E42*D42)","v":0},22101000540017,22101000540017,0]
[14,"Traversa TK-9","vnt.",15,null,{"$f":"(VLOOKUP(G43,Suvestine!B:D,3,0))*(E43*D43)","v":0},22101000540017,22101000540017,0]
[15,"Viršūnė TK-9A","vnt.",8.6999999999999993,null,{"$f":"(VLOOKUP(G44,Suvestine!B:D,3,0))*(E44*D44)","v":0},22101000540017,22101000540017,0]
[16,"Traversa TK-9A","vnt.",17.7,null,{"$f":"(VLOOKUP(G45,Suvestine!B:D,3,0))*(E45*D45)","v":0},22101000540017,22101000540017,0]
[17,"Viršūnė IA","vnt.",12.3,null,{"$f":"(VLOOKUP(G46,Suvestine!B:D,3,0))*(E46*D46)","v":0},22101000540017,22101000540017,0]
[18,"Traversa IA","vnt.",30,null,{"$f":"(VLOOKUP(G47,Suvestine!B:D,3,0))*(E47*D47)","v":0},22101000540017,22101000540017,0]
[19,"Traversa I","vnt.",19.2,null,{"$f":"(VLOOKUP(G48,Suvestine!B:D,3,0))*(E48*D48)","v":0},22101000540017,22101000540017,0]
[20,"Traversa PTA","vnt.",14.6,null,{"$f":"(VLOOKUP(G49,Suvestine!B:D,3,0))*(E49*D49)","v":0},22101000540017,22101000540017,0]
[21,"Paaukštinimas TP-11","vnt.",77,null,{"$f":"(VLOOKUP(G50,Suvestine!B:D,3,0))*(E50*D50)","v":0},22101000540017,22101000540017,0]
[22,"Apkaba Ap-12-1,1-1","vnt.",0.6,null,{"$f":"(VLOOKUP(G51,Suvestine!B:D,3,0))*(E51*D51)","v":0},22101000540017,22101000540017,0]
[23,"Apkaba Ap-12-2,7","vnt.",0.7,null,{"$f":"(VLOOKUP(G52,Suvestine!B:D,3,0))*(E52*D52)","v":0},22101000540017,22101000540017,0]
[24,"Apkaba Ap-12-1,1-2","vnt.",0.6,null,{"$f":"(VLOOKUP(G53,Suvestine!B:D,3,0))*(E53*D53)","v":0},22101000540017,22101000540017,0]
[25,"Apkaba Ap-16-1,1-1","vnt.",0.9,null,{"$f":"(VLOOKUP(G54,Suvestine!B:D,3,0))*(E54*D54)","v":0},22101000540017,22101000540017,0]
[26,"Apkaba Ap-16-1,1-2","vnt.",1,null,{"$f":"(VLOOKUP(G55,Suvestine!B:D,3,0))*(E55*D55)","v":0},22101000540017,22101000540017,0]
[27,"Apkaba Ap-16-2,7","vnt.",1,null,{"$f":"(VLOOKUP(G56,Suvestine!B:D,3,0))*(E56*D56)","v":0},22101000540017,22101000540017,0]
[28,"Skyriklio laikiklis IS","vnt.",38.5,null,{"$f":"(VLOOKUP(G57,Suvestine!B:D,3,0))*(E57*D57)","v":0},22101000540017,22101000540017,0]
[null,"10kV skyrikliai ir jų dalys"]
[29,"Skyriklis 3RN-1-20-200M","vnt.",57.5,null,{"$f":"(VLOOKUP(G59,Suvestine!B:D,3,0))*(E59*D59)","v":0},22101000540017,22101000540017,0]
[30,"Skyriklis 3RN-2-20-200M","vnt.",95,null,{"$f":"(VLOOKUP(G60,Suvestine!B:D,3,0))*(E60*D60)","v":0},22101000540017,22101000540017,0]
[31,"Skyriklis 2RN-1-20-200M","vnt.",45,null,{"$f":"(VLOOKUP(G61,Suvestine!B:D,3,0))*(E61*D61)","v":0},22101000540017,22101000540017,0]
[32,"Skyriklis LSP 10-1","vnt.",20.3,null,{"$f":"(VLOOKUP(G62,Suvestine!B:D,3,0))*(E62*D62)","v":0},22101000540017,22101000540017,0]
[33,"Skyriklis LSP 10-2","vnt.",23.3,null,{"$f":"(VLOOKUP(G63,Suvestine!B:D,3,0))*(E63*D63)","v":0},22101000540017,22101000540017,0]
[34,"Skyriklis LSP laikiklis","vnt.",15,null,{"$f":"(VLOOKUP(G64,Suvestine!B:D,3,0))*(E64*D64)","v":0},22101000540017,22101000540017,0]
[35,"Skyriklio pavara PR-20-2","vnt.",14.4,null,{"$f":"(VLOOKUP(G65,Suvestine!B:D,3,0))*(E65*D65)","v":0},22101000540017,22101000540017,0]
[36,"Skyriklio pavara PR-20-1","vnt.",10.199999999999999,null,{"$f":"(VLOOKUP(G66,Suvestine!B:D,3,0))*(E66*D66)","v":0},22101000540017,22101000540017,0]
[37,"Skyriklio pavaros traukė","vnt.",8,null,{"$f":"(VLOOKUP(G67,Suvestine!B:D,3,0))*(E67*D67)","v":0},22101000540017,22101000540017,0]
[null,"Neišpinti, neizoliuoti laidai bei laikantis lynai ",null,null,null,null,null,null,0]
[38,"A-16","1 laido 1 km",40,null,{"$f":"(VLOOKUP(G69,Suvestine!B:D,3,0))*(E69*D69)","v":0},22101000540007,22101000540007,0]
[39,"A-25","1 laido 1 km",63,null,{"$f":"(VLOOKUP(G70,Suvestine!B:D,3,0))*(E70*D70)","v":0},22101000540007,22101000540007,0]
[40,"A-35","1 laido 1 km",86,null,{"$f":"(VLOOKUP(G71,Suvestine!B:D,3,0))*(E71*D71)","v":0},22101000540007,22101000540007,0]
[41,"A-50","1 laido 1 km",124,null,{"$f":"(VLOOKUP(G72,Suvestine!B:D,3,0))*(E72*D72)","v":0},22101000540007,22101000540007,0]
[42,"A-70","1 laido 1 km",175,null,{"$f":"(VLOOKUP(G73,Suvestine!B:D,3,0))*(E73*D73)","v":0},22101000540007,22101000540007,0]
[43,"A-95","1 laido 1 km",232,null,{"$f":"(VLOOKUP(G74,Suvestine!B:D,3,0))*(E74*D74)","v":0},22101000540007,22101000540007,0]
[44,"A-120","1 laido 1 km",292,null,{"$f":"(VLOOKUP(G75,Suvestine!B:D,3,0))*(E75*D75)","v":0},22101000540007,22101000540007,0]
[45,"A-150","1 laido 1 km",374,null,{"$f":"(VLOOKUP(G76,Suvestine!B:D,3,0))*(E76*D76)","v":0},22101000540007,22101000540007,{"$f":"IF(E76<>\"\",1,0)","v":0}]
[46,"A-185","1 laido 1 km",463,null,{"$f":"(VLOOKUP(G77,Suvestine!B:D,3,0))*(E77*D77)","v":0},22101000540007,22101000540007,0]
[47,"A-240","1 laido 1 km",603,null,{"$f":"(VLOOKUP(G78,Suvestine!B:D,3,0))*(E78*D78)","v":0},22101000540007,22101000540007,0]
[48,"AS-10","1 laido 1 km",25,null,{"$f":"(VLOOKUP(G79,Suvestine!B:D,3,0))*(E79*D79)","v":0},22101000540013,22101000540013,0]
[49,"AS-16","1 laido 1 km",38,null,{"$f":"(VLOOKUP(G80,Suvestine!B:D,3,0))*(E80*D80)","v":0},22101000540013,22101000540013,0]
[50,"AS-25","1 laido 1 km",59,null,{"$f":"(VLOOKUP(G81,Suvestine!B:D,3,0))*(E81*D81)","v":0},22101000540013,22101000540013,0]
[51,"AS-35","1 laido 1 km",87,null,{"$f":"(VLOOKUP(G82,Suvestine!B:D,3,0))*(E82*D82)","v":0},22101000540013,22101000540013,0]
[52,"AS-50","1 laido 1 km",115,null,{"$f":"(VLOOKUP(G83,Suvestine!B:D,3,0))*(E83*D83)","v":0},22101000540013,22101000540013,0]
[53,"AS-70","1 laido 1 km",162,null,{"$f":"(VLOOKUP(G84,Suvestine!B:D,3,0))*(E84*D84)","v":0},22101000540013,22101000540013,0]
[54,"AS-95","1 laido 1 km",227,null,{"$f":"(VLOOKUP(G85,Suvestine!B:D,3,0))*(E85*D85)","v":0},22101000540013,22101000540013,0]
[55,"AS-120","1 laido 1 km",277,null,{"$f":"(VLOOKUP(G86,Suvestine!B:D,3,0))*(E86*D86)","v":0},22101000540013,22101000540013,0]
[56,"AS-150","1 laido 1 km",367,null,{"$f":"(VLOOKUP(G87,Suvestine!B:D,3,0))*(E87*D87)","v":0},22101000540013,22101000540013,0]
[57,"AS-185","1 laido 1 km",456,null,{"$f":"(VLOOKUP(G88,Suvestine!B:D,3,0))*(E88*D88)","v":0},22101000540013,22101000540013,0]
[58,"PS-25","1 laido 1 km",162.19999999999999,null,{"$f":"(VLOOKUP(G89,Suvestine!B:D,3,0))*(E89*D89)","v":0},22101000540017,22101000540017,0]
[59,"PS-35","1 laido 1 km",232.7,null,{"$f":"(VLOOKUP(G90,Suvestine!B:D,3,0))*(E90*D90)","v":0},22101000540017,22101000540017,0]
[60,"PS-50","1 laido 1 km",332.5,null,{"$f":"(VLOOKUP(G91,Suvestine!B:D,3,0))*(E91*D91)","v":0},22101000540017,22101000540017,0]
[61,"PSO-3","1 laido 1 km",48.4,null,{"$f":"(VLOOKUP(G92,Suvestine!B:D,3,0))*(E92*D92)","v":0},22101000540017,22101000540017,0]
[62,"PSO-4","1 laido 1 km",85.5,null,{"$f":"(VLOOKUP(G93,Suvestine!B:D,3,0))*(E93*D93)","v":0},22101000540017,22101000540017,0]
[63,"PSO-5","1 laido 1 km",132,null,{"$f":"(VLOOKUP(G94,Suvestine!B:D,3,0))*(E94*D94)","v":0},22101000540017,22101000540017,0]
[64,"PSO-6","1 laido 1 km",190,null,{"$f":"(VLOOKUP(G95,Suvestine!B:D,3,0))*(E95*D95)","v":0},22101000540017,22101000540017,0]
[65,"M-4","1 laido 1 km",32,null,{"$f":"(VLOOKUP(G96,Suvestine!B:D,3,0))*(E96*D96)","v":0},22101000550041,22101000550041,0]
[66,"M-6","1 laido 1 km",48,null,{"$f":"(VLOOKUP(G97,Suvestine!B:D,3,0))*(E97*D97)","v":0},22101000550041,22101000550041,0]
[67,"M-10","1 laido 1 km",82,null,{"$f":"(VLOOKUP(G98,Suvestine!B:D,3,0))*(E98*D98)","v":0},22101000550041,22101000550041,0]
[68,"M-16","1 laido 1 km",131,null,{"$f":"(VLOOKUP(G99,Suvestine!B:D,3,0))*(E99*D99)","v":0},22101000550041,22101000550041,0]
[69,"M-25","1 laido 1 km",207,null,{"$f":"(VLOOKUP(G100,Suvestine!B:D,3,0))*(E100*D100)","v":0},22101000550041,22101000550041,0]
[70,"M-35","1 laido 1 km",286,null,{"$f":"(VLOOKUP(G101,Suvestine!B:D,3,0))*(E101*D101)","v":0},22101000550041,22101000550041,0]
[71,"M-50","1 laido 1 km",409,null,{"$f":"(VLOOKUP(G102,Suvestine!B:D,3,0))*(E102*D102)","v":0},22101000550041,22101000550041,0]
[72,"M-70","1 laido 1 km",564,null,{"$f":"(VLOOKUP(G103,Suvestine!B:D,3,0))*(E103*D103)","v":0},22101000550041,22101000550041,0]
[73,"Apsauginis lynas TK-35","1 laido 1 km",247,null,{"$f":"(VLOOKUP(G104,Suvestine!B:D,3,0))*(E104*D104)","v":0},22101000540017,22101000540017,0]
[74,"Apsauginis lynas TK-50","1 laido 1 km",356,null,{"$f":"(VLOOKUP(G105,Suvestine!B:D,3,0))*(E105*D105)","v":0},22101000540017,22101000540017,0]
[75,"Kalibruota viela ø10","1 laido 1 km",0.5,null,{"$f":"(VLOOKUP(G106,Suvestine!B:D,3,0))*(E106*D106)","v":0},22101000540017,22101000540017,0]
[null,"10 kV kabeliai aliuminio gyslomis aliuminio apvalkale",null,null,null,null,null,null,0]
[76,"AAŠvU 3x16","1 kabelio 1 km",333.5,null,{"$f":"(VLOOKUP(G108,Suvestine!B:D,3,0))*(ROUND((E108*D108),2))","v":0},22101000820112,22101000820112,0]
[77,"AAŠvU 3x25","1 kabelio 1 km",342.1,null,{"$f":"(VLOOKUP(G109,Suvestine!B:D,3,0))*(ROUND((E109*D109),2))","v":0},22101000820112,22101000820112,0]
[78,"AAŠvU 3x35","1 kabelio 1 km",389.3,null,{"$f":"(VLOOKUP(G110,Suvestine!B:D,3,0))*(ROUND((E110*D110),2))","v":0},22101000820112,22101000820112,0]
[79,"AAŠvU 3x50","1 kabelio 1 km",459.6,null,{"$f":"(VLOOKUP(G111,Suvestine!B:D,3,0))*(ROUND((E111*D111),2))","v":0},22101000820112,22101000820112,0]
[80,"AAŠvU 3x70","1 kabelio 1 km",532.70000000000005,null,{"$f":"(VLOOKUP(G112,Suvestine!B:D,3,0))*(ROUND((E112*D112),2))","v":0},22101000820112,22101000820112,0]
[81,"AAŠvU 3x70*","1 kabelio 1 km",569.70000000000005,null,{"$f":"(VLOOKUP(G113,Suvestine!B:D,3,0))*(ROUND((E113*D113),2))","v":0},22101000820112,22101000820112,0]
[82,"AAŠvU 3x95","1 kabelio 1 km",631.5,null,{"$f":"(VLOOKUP(G114,Suvestine!B:D,3,0))*(ROUND((E114*D114),2))","v":0},22101000820112,22101000820112,0]
[83,"AAŠvU 3x95*","1 kabelio 1 km",677.7,null,{"$f":"(VLOOKUP(G115,Suvestine!B:D,3,0))*(ROUND((E115*D115),2))","v":0},22101000820112,22101000820112,0]
[84,"AAŠvU 3x120","1 kabelio 1 km",720.7,null,{"$f":"(VLOOKUP(G116,Suvestine!B:D,3,0))*(ROUND((E116*D116),2))","v":0},22101000820112,22101000820112,0]
[85,"AAŠvU 3x120*","1 kabelio 1 km",812.2,null,{"$f":"(VLOOKUP(G117,Suvestine!B:D,3,0))*(ROUND((E117*D117),2))","v":0},22101000820112,22101000820112,0]
[86,"AAŠvU 3x150","1 kabelio 1 km",848.5,null,{"$f":"(VLOOKUP(G118,Suvestine!B:D,3,0))*(ROUND((E118*D118),2))","v":0},22101000820112,22101000820112,0]
[87,"AAŠvU 3x150*","1 kabelio 1 km",931.4,null,{"$f":"(VLOOKUP(G119,Suvestine!B:D,3,0))*(ROUND((E119*D119),2))","v":0},22101000820112,22101000820112,0]
[88,"AAŠvU 3x185","1 kabelio 1 km",976,null,{"$f":"(VLOOKUP(G120,Suvestine!B:D,3,0))*(ROUND((E120*D120),2))","v":0},22101000820112,22101000820112,0]
[89,"AAŠvU 3x185*","1 kabelio 1 km",1055.2,null,{"$f":"(VLOOKUP(G121,Suvestine!B:D,3,0))*(ROUND((E121*D121),2))","v":0},22101000820112,22101000820112,0]
[90,"AAŠvU 3x240","1 kabelio 1 km",1147.2,null,{"$f":"(VLOOKUP(G122,Suvestine!B:D,3,0))*(ROUND((E122*D122),2))","v":0},22101000820112,22101000820112,0]
[91,"AAŠvU 3x240*","1 kabelio 1 km",1279.4000000000001,null,{"$f":"(VLOOKUP(G123,Suvestine!B:D,3,0))*(ROUND((E123*D123),2))","v":0},22101000820112,22101000820112,0]
[null,"10 kV kabeliai aliuminio gyslomis aliuminio apvalkale",null,null,null,null,null,null,0]
[92,"AABLU 3x16","1 kabelio 1 km",555.70000000000005,null,{"$f":"(VLOOKUP(G125,Suvestine!B:D,3,0))*(ROUND((E125*D125),2))","v":0},22101000820112,22101000820112,0]
[93,"AABLU 3x25","1 kabelio 1 km",563.79999999999995,null,{"$f":"(VLOOKUP(G126,Suvestine!B:D,3,0))*(ROUND((E126*D126),2))","v":0},22101000820112,22101000820112,0]
[94,"AABLU 3x35","1 kabelio 1 km",623,null,{"$f":"(VLOOKUP(G127,Suvestine!B:D,3,0))*(ROUND((E127*D127),2))","v":0},22101000820112,22101000820112,0]
[95,"AABLU 3x50","1 kabelio 1 km",700,null,{"$f":"(VLOOKUP(G128,Suvestine!B:D,3,0))*(ROUND((E128*D128),2))","v":0},22101000820112,22101000820112,0]
[96,"AABLU 3x70","1 kabelio 1 km",787.5,null,{"$f":"(VLOOKUP(G129,Suvestine!B:D,3,0))*(ROUND((E129*D129),2))","v":0},22101000820112,22101000820112,0]
[97,"AABLU 3x70*","1 kabelio 1 km",812.4,null,{"$f":"(VLOOKUP(G130,Suvestine!B:D,3,0))*(ROUND((E130*D130),2))","v":0},22101000820112,22101000820112,0]
[98,"AABLU 3x95","1 kabelio 1 km",904.4,null,{"$f":"(VLOOKUP(G131,Suvestine!B:D,3,0))*(ROUND((E131*D131),2))","v":0},22101000820112,22101000820112,0]
[99,"AABLU 3x95*","1 kabelio 1 km",963.9,null,{"$f":"(VLOOKUP(G132,Suvestine!B:D,3,0))*(ROUND((E132*D132),2))","v":0},22101000820112,22101000820112,0]
[100,"AABLU 3x120","1 kabelio 1 km",1008,null,{"$f":"(VLOOKUP(G133,Suvestine!B:D,3,0))*(ROUND((E133*D133),2))","v":0},22101000820112,22101000820112,0]
[101,"AABLU 3x120*","1 kabelio 1 km",1110.4000000000001,null,{"$f":"(VLOOKUP(G134,Suvestine!B:D,3,0))*(ROUND((E134*D134),2))","v":0},22101000820112,22101000820112,0]
[102,"AABLU 3x150","1 kabelio 1 km",1143.5,null,{"$f":"(VLOOKUP(G135,Suvestine!B:D,3,0))*(ROUND((E135*D135),2))","v":0},22101000820112,22101000820112,{"$f":"IF(E135<>\"\",1,0)","v":0}]
[103,"AABLU 3x150*","1 kabelio 1 km",1247.0999999999999,null,{"$f":"(VLOOKUP(G136,Suvestine!B:D,3,0))*(ROUND((E136*D136),2))","v":0},22101000820112,22101000820112,0]
[104,"AABLU 3x185","1 kabelio 1 km",1289.3,null,{"$f":"(VLOOKUP(G137,Suvestine!B:D,3,0))*(ROUND((E137*D137),2))","v":0},22101000820112,22101000820112,0]
[105,"AABLU 3x185*","1 kabelio 1 km",1388.9,null,{"$f":"(VLOOKUP(G138,Suvestine!B:D,3,0))*(ROUND((E138*D138),2))","v":0},22101000820112,22101000820112,0]
[106,"AABLU 3x240","1 kabelio 1 km",1482.6,null,{"$f":"(VLOOKUP(G139,Suvestine!B:D,3,0))*(ROUND((E139*D139),2))","v":0},22101000820112,22101000820112,0]
[107,"AABLU 3x240*","1 kabelio 1 km",1807.8,null,{"$f":"(VLOOKUP(G140,Suvestine!B:D,3,0))*(ROUND((E140*D140),2))","v":0},22101000820112,22101000820112,0]
[null,"10 kV kabeliai aliuminio gyslomis švino apvalkale",null,null,null,null,null,null,0]
[108,"ASBU 3x50","1 kabelio 1 km",979,null,{"$f":"(VLOOKUP(G142,Suvestine!B:D,3,0))*(ROUND((E142*D142),2))","v":0},22101000820112,22101000820112,0]
[109,"ASBU 3x70","1 kabelio 1 km",1119.2,null,{"$f":"(VLOOKUP(G143,Suvestine!B:D,3,0))*(ROUND((E143*D143),2))","v":0},22101000820112,22101000820112,0]
[110,"ASBU 3x95","1 kabelio 1 km",1298.2,null,{"$f":"(VLOOKUP(G144,Suvestine!B:D,3,0))*(ROUND((E144*D144),2))","v":0},22101000820112,22101000820112,0]
[111,"ASBU 3x120","1 kabelio 1 km",1422.4,null,{"$f":"(VLOOKUP(G145,Suvestine!B:D,3,0))*(ROUND((E145*D145),2))","v":0},22101000820112,22101000820112,0]
[112,"ASBU 3x150","1 kabelio 1 km",1571.7,null,{"$f":"(VLOOKUP(G146,Suvestine!B:D,3,0))*(ROUND((E146*D146),2))","v":0},22101000820112,22101000820112,0]
[113,"ASBU 3x150*","1 kabelio 1 km",1634.6,null,{"$f":"(VLOOKUP(G147,Suvestine!B:D,3,0))*(ROUND((E147*D147),2))","v":0},22101000820112,22101000820112,0]
[114,"ASBU 3x185","1 kabelio 1 km",1767.2,null,{"$f":"(VLOOKUP(G148,Suvestine!B:D,3,0))*(ROUND((E148*D148),2))","v":0},22101000820112,22101000820112,0]
[115,"ASBU 3x185*","1 kabelio 1 km",1856.8,null,{"$f":"(VLOOKUP(G149,Suvestine!B:D,3,0))*(ROUND((E149*D149),2))","v":0},22101000820112,22101000820112,0]
[116,"ASBU 3x240","1 kabelio 1 km",2005,null,{"$f":"(VLOOKUP(G150,Suvestine!B:D,3,0))*(ROUND((E150*D150),2))","v":0},22101000820112,22101000820112,0]
[117,"ASBU 3x240*","1 kabelio 1 km",2347.1,null,{"$f":"(VLOOKUP(G151,Suvestine!B:D,3,0))*(ROUND((E151*D151),2))","v":0},22101000820112,22101000820112,0]
[null,"6 kV kabeliai aliuminio gyslomis švino apvalkale",null,null,null,null,null,null,0]
[118,"ASBU 3x50","1 kabelio 1 km",843.9,null,{"$f":"(VLOOKUP(G153,Suvestine!B:D,3,0))*(ROUND((E153*D153),2))","v":0},22101000820112,22101000820112,0]
[119,"ASBU 3x70","1 kabelio 1 km",949.6,null,{"$f":"(VLOOKUP(G154,Suvestine!B:D,3,0))*(ROUND((E154*D154),2))","v":0},22101000820112,22101000820112,0]
[120,"ASBU 3x95","1 kabelio 1 km",1072.4000000000001,null,{"$f":"(VLOOKUP(G155,Suvestine!B:D,3,0))*(ROUND((E155*D155),2))","v":0},22101000820112,22101000820112,0]
[121,"ASBU 3x120","1 kabelio 1 km",1227.4000000000001,null,{"$f":"(VLOOKUP(G156,Suvestine!B:D,3,0))*(ROUND((E156*D156),2))","v":0},22101000820112,22101000820112,0]
[122,"ASBU 3x150","1 kabelio 1 km",1412.6,null,{"$f":"(VLOOKUP(G157,Suvestine!B:D,3,0))*(ROUND((E157*D157),2))","v":0},22101000820112,22101000820112,0]
[123,"ASBU 3x150*","1 kabelio 1 km",1467.2,null,{"$f":"(VLOOKUP(G158,Suvestine!B:D,3,0))*(ROUND((E158*D158),2))","v":0},22101000820112,22101000820112,0]
[124,"ASBU 3x185","1 kabelio 1 km",1557.6,null,{"$f":"(VLOOKUP(G159,Suvestine!B:D,3,0))*(ROUND((E159*D159),2))","v":0},22101000820112,22101000820112,0]
[125,"ASBU 3x185*","1 kabelio 1 km",1633.2,null,{"$f":"(VLOOKUP(G160,Suvestine!B:D,3,0))*(ROUND((E160*D160),2))","v":0},22101000820112,22101000820112,0]
[126,"ASBU 3x240","1 kabelio 1 km",1829,null,{"$f":"(VLOOKUP(G161,Suvestine!B:D,3,0))*(ROUND((E161*D161),2))","v":0},22101000820112,22101000820112,0]
[127,"ASBU 3x240*","1 kabelio 1 km",1944.3,null,{"$f":"(VLOOKUP(G162,Suvestine!B:D,3,0))*(ROUND((E162*D162),2))","v":0},22101000820112,22101000820112,0]
[null,"0,4 kV kabeliai aliuminio gyslomis aliuminio apvalkale",null,null,null,null,null,null,0]
[128,"AAŠvU 3x35","1 kabelio 1 km",202.5,null,{"$f":"(VLOOKUP(G164,Suvestine!B:D,3,0))*(ROUND((E164*D164),2))","v":0},22101000820112,22101000820112,0]
[129,"AAŠvU 3x50","1 kabelio 1 km",257.60000000000002,null,{"$f":"(VLOOKUP(G165,Suvestine!B:D,3,0))*(ROUND((E165*D165),2))","v":0},22101000820112,22101000820112,0]
[130,"AAŠvU 3x70","1 kabelio 1 km",325.89999999999998,null,{"$f":"(VLOOKUP(G166,Suvestine!B:D,3,0))*(ROUND((E166*D166),2))","v":0},22101000820112,22101000820112,0]
[131,"AAŠvU 3x70*","1 kabelio 1 km",351.3,null,{"$f":"(VLOOKUP(G167,Suvestine!B:D,3,0))*(ROUND((E167*D167),2))","v":0},22101000820112,22101000820112,0]
[132,"AAŠvU 3x95","1 kabelio 1 km",407.7,null,{"$f":"(VLOOKUP(G168,Suvestine!B:D,3,0))*(ROUND((E168*D168),2))","v":0},22101000820112,22101000820112,0]
[133,"AAŠvU 3x95*","1 kabelio 1 km",437.9,null,{"$f":"(VLOOKUP(G169,Suvestine!B:D,3,0))*(ROUND((E169*D169),2))","v":0},22101000820112,22101000820112,0]
[134,"AAŠvU 3x120","1 kabelio 1 km",493,null,{"$f":"(VLOOKUP(G170,Suvestine!B:D,3,0))*(ROUND((E170*D170),2))","v":0},22101000820112,22101000820112,0]
[135,"AAŠvU 3x120*","1 kabelio 1 km",547.6,null,{"$f":"(VLOOKUP(G171,Suvestine!B:D,3,0))*(ROUND((E171*D171),2))","v":0},22101000820112,22101000820112,0]
[136,"AAŠvU 3x150","1 kabelio 1 km",586.70000000000005,null,{"$f":"(VLOOKUP(G172,Suvestine!B:D,3,0))*(ROUND((E172*D172),2))","v":0},22101000820112,22101000820112,0]
[137,"AAŠvU 3x150*","1 kabelio 1 km",643.4,null,{"$f":"(VLOOKUP(G173,Suvestine!B:D,3,0))*(ROUND((E173*D173),2))","v":0},22101000820112,22101000820112,0]
[138,"AAŠvU 3x185","1 kabelio 1 km",694.4,null,{"$f":"(VLOOKUP(G174,Suvestine!B:D,3,0))*(ROUND((E174*D174),2))","v":0},22101000820112,22101000820112,0]
[139,"AAŠvU 3x185*","1 kabelio 1 km",786.5,null,{"$f":"(VLOOKUP(G175,Suvestine!B:D,3,0))*(ROUND((E175*D175),2))","v":0},22101000820112,22101000820112,0]
[140,"AAŠvU 3x240","1 kabelio 1 km",874.5,null,{"$f":"(VLOOKUP(G176,Suvestine!B:D,3,0))*(ROUND((E176*D176),2))","v":0},22101000820112,22101000820112,0]
[141,"AAŠvU 3x240*","1 kabelio 1 km",989.8,null,{"$f":"(VLOOKUP(G177,Suvestine!B:D,3,0))*(ROUND((E177*D177),2))","v":0},22101000820112,22101000820112,0]
[null,"0,4 kV kabeliai aliuminio gyslomis aliuminio apvalkale",null,null,null,null,null,null,0]
[142,"AABLU 3x50","1 kabelio 1 km",440.1,null,{"$f":"(VLOOKUP(G179,Suvestine!B:D,3,0))*(ROUND((E179*D179),2))","v":0},22101000820112,22101000820112,0]
[143,"AABLU 3x70","1 kabelio 1 km",524.9,null,{"$f":"(VLOOKUP(G180,Suvestine!B:D,3,0))*(ROUND((E180*D180),2))","v":0},22101000820112,22101000820112,0]
[144,"AABLU 3x70*","1 kabelio 1 km",563,null,{"$f":"(VLOOKUP(G181,Suvestine!B:D,3,0))*(ROUND((E181*D181),2))","v":0},22101000820112,22101000820112,0]
[145,"AABLU 3x95","1 kabelio 1 km",625.9,null,{"$f":"(VLOOKUP(G182,Suvestine!B:D,3,0))*(ROUND((E182*D182),2))","v":0},22101000820112,22101000820112,0]
[146,"AABLU 3x95*","1 kabelio 1 km",670.1,null,{"$f":"(VLOOKUP(G183,Suvestine!B:D,3,0))*(ROUND((E183*D183),2))","v":0},22101000820112,22101000820112,0]
[147,"AABLU 3x120","1 kabelio 1 km",731.2,null,{"$f":"(VLOOKUP(G184,Suvestine!B:D,3,0))*(ROUND((E184*D184),2))","v":0},22101000820112,22101000820112,0]
[148,"AABLU 3x120*","1 kabelio 1 km",797.9,null,{"$f":"(VLOOKUP(G185,Suvestine!B:D,3,0))*(ROUND((E185*D185),2))","v":0},22101000820112,22101000820112,0]
[149,"AABLU 3x150","1 kabelio 1 km",833.2,null,{"$f":"(VLOOKUP(G186,Suvestine!B:D,3,0))*(ROUND((E186*D186),2))","v":0},22101000820112,22101000820112,0]
[150,"AABLU 3x150*","1 kabelio 1 km",911,null,{"$f":"(VLOOKUP(G187,Suvestine!B:D,3,0))*(ROUND((E187*D187),2))","v":0},22101000820112,22101000820112,0]
[151,"AABLU 3x185","1 kabelio 1 km",960.9,null,{"$f":"(VLOOKUP(G188,Suvestine!B:D,3,0))*(ROUND((E188*D188),2))","v":0},22101000820112,22101000820112,0]
[152,"AABLU 3x185*","1 kabelio 1 km",1078.0999999999999,null,{"$f":"(VLOOKUP(G189,Suvestine!B:D,3,0))*(ROUND((E189*D189),2))","v":0},22101000820112,22101000820112,0]
[153,"AABLU 3x240","1 kabelio 1 km",1167.8,null,{"$f":"(VLOOKUP(G190,Suvestine!B:D,3,0))*(ROUND((E190*D190),2))","v":0},22101000820112,22101000820112,0]
[154,"AABLU 3x240*","1 kabelio 1 km",1302.5,null,{"$f":"(VLOOKUP(G191,Suvestine!B:D,3,0))*(ROUND((E191*D191),2))","v":0},22101000820112,22101000820112,0]
[null,"0,4 kV kabeliai aliuminio gyslomis švino apvalkale",null,null,null,null,null,null,0]
[155,"ASBU 4x35","1 kabelio 1 km",577.29999999999995,null,{"$f":"(VLOOKUP(G193,Suvestine!B:D,3,0))*(ROUND((E193*D193),2))","v":0},22101000820112,22101000820112,0]
[156,"ASBU 4x50","1 kabelio 1 km",703.1,null,{"$f":"(VLOOKUP(G194,Suvestine!B:D,3,0))*(ROUND((E194*D194),2))","v":0},22101000820112,22101000820112,0]
[157,"ASBU 4x70","1 kabelio 1 km",869.4,null,{"$f":"(VLOOKUP(G195,Suvestine!B:D,3,0))*(ROUND((E195*D195),2))","v":0},22101000820112,22101000820112,0]
[158,"ASBU 4x70*","1 kabelio 1 km",936.9,null,{"$f":"(VLOOKUP(G196,Suvestine!B:D,3,0))*(ROUND((E196*D196),2))","v":0},22101000820112,22101000820112,0]
[159,"ASBU 4x95","1 kabelio 1 km",1013,null,{"$f":"(VLOOKUP(G197,Suvestine!B:D,3,0))*(ROUND((E197*D197),2))","v":0},22101000820112,22101000820112,0]
[160,"ASBU 4x95*","1 kabelio 1 km",1092.4000000000001,null,{"$f":"(VLOOKUP(G198,Suvestine!B:D,3,0))*(ROUND((E198*D198),2))","v":0},22101000820112,22101000820112,0]
[161,"ASBU 4x120","1 kabelio 1 km",1206.4000000000001,null,{"$f":"(VLOOKUP(G199,Suvestine!B:D,3,0))*(ROUND((E199*D199),2))","v":0},22101000820112,22101000820112,{"$f":"IF(E199<>\"\",1,0)","v":0}]
[162,"ASBU 4x120*","1 kabelio 1 km",1348.7,null,{"$f":"(VLOOKUP(G200,Suvestine!B:D,3,0))*(ROUND((E200*D200),2))","v":0},22101000820112,22101000820112,0]
[null,"0,4 kV kabeliai aliuminio gyslomis švino apvalkale",null,null,null,null,null,null,0]
[163,"ASBU 3x35+1x16","1 kabelio 1 km",554.6,null,{"$f":"(VLOOKUP(G202,Suvestine!B:D,3,0))*(ROUND((E202*D202),2))","v":0},22101000820112,22101000820112,0]
[164,"ASBU 3x50+1x25","1 kabelio 1 km",627.20000000000005,null,{"$f":"(VLOOKUP(G203,Suvestine!B:D,3,0))*(ROUND((E203*D203),2))","v":0},22101000820112,22101000820112,0]
[165,"ASBU 3x70+1x25","1 kabelio 1 km",828.9,null,{"$f":"(VLOOKUP(G204,Suvestine!B:D,3,0))*(ROUND((E204*D204),2))","v":0},22101000820112,22101000820112,0]
[166,"ASBU 3x95+1x35","1 kabelio 1 km",938.3,null,{"$f":"(VLOOKUP(G205,Suvestine!B:D,3,0))*(ROUND((E205*D205),2))","v":0},22101000820112,22101000820112,0]
[167,"ASBU 3x120+1x35","1 kabelio 1 km",1069.5,null,{"$f":"(VLOOKUP(G206,Suvestine!B:D,3,0))*(ROUND((E206*D206),2))","v":0},22101000820112,22101000820112,0]
[168,"ASBU 3x150+1x50","1 kabelio 1 km",1257.9000000000001,null,{"$f":"(VLOOKUP(G207,Suvestine!B:D,3,0))*(ROUND((E207*D207),2))","v":0},22101000820112,22101000820112,0]
[169,"ASBU 3x150+1x50*","1 kabelio 1 km",1363.2,null,{"$f":"(VLOOKUP(G208,Suvestine!B:D,3,0))*(ROUND((E208*D208),2))","v":0},22101000820112,22101000820112,0]
[170,"ASBU 3x185+1x50","1 kabelio 1 km",1453.7,null,{"$f":"(VLOOKUP(G209,Suvestine!B:D,3,0))*(ROUND((E209*D209),2))","v":0},22101000820112,22101000820112,0]
[171,"ASBU 3x185+1x50*","1 kabelio 1 km",1520.4,null,{"$f":"(VLOOKUP(G210,Suvestine!B:D,3,0))*(ROUND((E210*D210),2))","v":0},22101000820112,22101000820112,0]
[null,"0,4 kV oro olinijų kabeliai AMKA",null,null,null,null,null,null,0]
[172,"AMKA 1x16+25","1 kabelio 1 km",100,null,{"$f":"(VLOOKUP(G212,Suvestine!B:D,3,0))*(ROUND((E212*D212),2))","v":0},22101000550001,22101000550001,0]
[173,"AMKA 3x16+25","1 kabelio 1 km",185,null,{"$f":"(VLOOKUP(G213,Suvestine!B:D,3,0))*(ROUND((E213*D213),2))","v":0},22101000550001,22101000550001,0]
[174,"AMKA 4x16+25","1 kabelio 1 km",225,null,{"$f":"(VLOOKUP(G214,Suvestine!B:D,3,0))*(ROUND((E214*D214),2))","v":0},22101000550001,22101000550001,0]
[175,"AMKA 3x25+35","1 kabelio 1 km",285,null,{"$f":"(VLOOKUP(G215,Suvestine!B:D,3,0))*(ROUND((E215*D215),2))","v":0},22101000550001,22101000550001,0]
[176,"AMKA 3x35+50","1 kabelio 1 km",390,null,{"$f":"(VLOOKUP(G216,Suvestine!B:D,3,0))*(ROUND((E216*D216),2))","v":0},22101000550001,22101000550001,0]
[177,"AMKA 3x50+70","1 kabelio 1 km",540,null,{"$f":"(VLOOKUP(G217,Suvestine!B:D,3,0))*(ROUND((E217*D217),2))","v":0},22101000550001,22101000550001,0]
[178,"AMKA 3x70+95","1 kabelio 1 km",775,null,{"$f":"(VLOOKUP(G218,Suvestine!B:D,3,0))*(ROUND((E218*D218),2))","v":0},22101000550001,22101000550001,0]
[179,"AMKA 3x120+95","1 kabelio 1 km",1185,null,{"$f":"(VLOOKUP(G219,Suvestine!B:D,3,0))*(ROUND((E219*D219),2))","v":0},22101000550001,22101000550001,0]
[null,"Laidas izoliuotas APV",null,null,null,null,null,null,{"$f":"IF(E220<>\"\",1,0)","v":0}]
[180,"AVP–2 mm²","1 kabelio 1 km",10.3,null,{"$f":"(VLOOKUP(G221,Suvestine!B:D,3,0))*(ROUND((E221*D221),2))","v":0},22101000550040,22101000550040,0]
[181,"AVP–2,5 mm²","1 kabelio 1 km",11.8,null,{"$f":"(VLOOKUP(G222,Suvestine!B:D,3,0))*(ROUND((E222*D222),2))","v":0},22101000550040,22101000550040,{"$f":"IF(E222<>\"\",1,0)","v":0}]
[182,"AVP–3 mm²","1 kabelio 1 km",15,null,{"$f":"(VLOOKUP(G223,Suvestine!B:D,3,0))*(ROUND((E223*D223),2))","v":0},22101000550040,22101000550040,0]
[183,"AVP–4 mm²","1 kabelio 1 km",18,null,{"$f":"(VLOOKUP(G224,Suvestine!B:D,3,0))*(ROUND((E224*D224),2))","v":0},22101000550040,22101000550040,0]
[184,"AVP–5 mm²","1 kabelio 1 km",21.5,null,{"$f":"(VLOOKUP(G225,Suvestine!B:D,3,0))*(ROUND((E225*D225),2))","v":0},22101000550040,22101000550040,0]
[185,"AVP–6 mm²","1 kabelio 1 km",24.4,null,{"$f":"(VLOOKUP(G226,Suvestine!B:D,3,0))*(ROUND((E226*D226),2))","v":0},22101000550040,22101000550040,0]
[186,"AVP–8 mm²","1 kabelio 1 km",35,null,{"$f":"(VLOOKUP(G227,Suvestine!B:D,3,0))*(ROUND((E227*D227),2))","v":0},22101000550040,22101000550040,0]
[187,"AVP–10 mm²","1 kabelio 1 km",41.5,null,{"$f":"(VLOOKUP(G228,Suvestine!B:D,3,0))*(ROUND((E228*D228),2))","v":0},22101000550040,22101000550040,0]
[188,"AVP–16 mm²","1 kabelio 1 km",65.5,null,{"$f":"(VLOOKUP(G229,Suvestine!B:D,3,0))*(ROUND((E229*D229),2))","v":0},22101000550040,22101000550040,0]
[189,"AVP–25 mm²","1 kabelio 1 km",102.5,null,{"$f":"(VLOOKUP(G230,Suvestine!B:D,3,0))*(ROUND((E230*D230),2))","v":0},22101000550040,22101000550040,0]
[190,"AVP–35 mm²","1 kabelio 1 km",133,null,{"$f":"(VLOOKUP(G231,Suvestine!B:D,3,0))*(ROUND((E231*D231),2))","v":0},22101000550040,22101000550040,0]
[191,"AVP–50 mm²","1 kabelio 1 km",182.5,null,{"$f":"(VLOOKUP(G232,Suvestine!B:D,3,0))*(ROUND((E232*D232),2))","v":0},22101000550040,22101000550040,0]
[192,"AVP–70 mm²","1 kabelio 1 km",248,null,{"$f":"(VLOOKUP(G233,Suvestine!B:D,3,0))*(ROUND((E233*D233),2))","v":0},22101000550040,22101000550040,0]
[193,"AVP–95 mm²","1 kabelio 1 km",341,null,{"$f":"(VLOOKUP(G234,Suvestine!B:D,3,0))*(ROUND((E234*D234),2))","v":0},22101000550040,22101000550040,0]
[194,"AVP–120 mm²","1 kabelio 1 km",417,null,{"$f":"(VLOOKUP(G235,Suvestine!B:D,3,0))*(ROUND((E235*D235),2))","v":0},22101000550040,22101000550040,0]
[null,"Stulpinės transformatorinės",null,null,null,null,null,null,0]
[195,"ST-10/10 (sena, vienfazė)","vnt.",50,null,{"$f":"(VLOOKUP(G237,Suvestine!B:D,3,0))*(ROUND((E237*D237),2))","v":0},22101000940060,22101000940060,0]
[196,"ST-10-63/10","vnt.",133,null,{"$f":"(VLOOKUP(G238,Suvestine!B:D,3,0))*(ROUND((E238*D238),2))","v":0},22101000940060,22101000940060,0]
[197,"ST-100-400/10","vnt.",179,null,{"$f":"(VLOOKUP(G239,Suvestine!B:D,3,0))*(ROUND((E239*D239),2))","v":0},22101000940060,22101000940060,0]
[null,"Komplektinės „Šiaulių“ tipo",null,null,null,null,null,null,0]
[198,"KTTP 160-400 B","vnt.",1100,null,{"$f":"(VLOOKUP(G241,Suvestine!B:D,3,0))*(ROUND((E241*D241),2))","v":0},22101000940060,22101000940060,0]
[199,"KTP 160-400 K","vnt.",1300,null,{"$f":"(VLOOKUP(G242,Suvestine!B:D,3,0))*(ROUND((E242*D242),2))","v":0},22101000940060,22101000940060,0]
[200,"KTP 160-400 U","vnt.",1300,null,{"$f":"(VLOOKUP(G243,Suvestine!B:D,3,0))*(ROUND((E243*D243),2))","v":0},22101000940060,22101000940060,0]
[null,"Komplektinės „Minsko“ tipo",null,null,null,null,null,null,0]
[201,"Komplektinės „Minsko“ tipo","vnt.",130,null,{"$f":"(VLOOKUP(G245,Suvestine!B:D,3,0))*(ROUND((E245*D245),2))","v":0},22101000940060,22101000940060,0]
[null,"Narveliai",null,null,null,null,null,null,0]
[202,"10 kV narveliai KCO-3Y","vnt.",180,null,{"$f":"(VLOOKUP(G247,Suvestine!B:D,3,0))*(ROUND((E247*D247),2))","v":0},22101000940060,22101000940060,0]
[203,"0,4 kV skydeliai ŠČO-59","vnt.",90,null,{"$f":"(VLOOKUP(G248,Suvestine!B:D,3,0))*(ROUND((E248*D248),2))","v":0},22101000940060,22101000940060,0]
[204,"KSO-272","vnt.",308,null,{"$f":"(VLOOKUP(G249,Suvestine!B:D,3,0))*(ROUND((E249*D249),2))","v":0},22101000940060,22101000940060,0]
[205,"KRN-III","vnt.",421,null,{"$f":"(VLOOKUP(G250,Suvestine!B:D,3,0))*(ROUND((E250*D250),2))","v":0},22101000940060,22101000940060,0]
[206,"K-XII","vnt.",460,null,{"$f":"(VLOOKUP(G251,Suvestine!B:D,3,0))*(ROUND((E251*D251),2))","v":0},22101000940060,22101000940060,0]
[207,"KSO-2","vnt.",163,null,{"$f":"(VLOOKUP(G252,Suvestine!B:D,3,0))*(ROUND((E252*D252),2))","v":0},22101000940060,22101000940060,0]
[208,"KRUN K-6","vnt.",480,null,{"$f":"(VLOOKUP(G253,Suvestine!B:D,3,0))*(ROUND((E253*D253),2))","v":0},22101000940060,22101000940060,0]
[209,"KVGN-3","vnt.",406,null,{"$f":"(VLOOKUP(G254,Suvestine!B:D,3,0))*(ROUND((E254*D254),2))","v":0},22101000940060,22101000940060,0]
[210,"KSO-266","vnt.",445,null,{"$f":"(VLOOKUP(G255,Suvestine!B:D,3,0))*(ROUND((E255*D255),2))","v":0},22101000940060,22101000940060,0]
[211,"KSO-285","vnt.",432,null,{"$f":"(VLOOKUP(G256,Suvestine!B:D,3,0))*(ROUND((E256*D256),2))","v":0},22101000940060,22101000940060,0]
[212,"K-47","vnt.",627,null,{"$f":"(VLOOKUP(G257,Suvestine!B:D,3,0))*(ROUND((E257*D257),2))","v":0},22101000940060,22101000940060,0]
[213,"K-VI-U","vnt.",638,null,{"$f":"(VLOOKUP(G258,Suvestine!B:D,3,0))*(ROUND((E258*D258),2))","v":0},22101000940060,22101000940060,0]
[214,"K-37","vnt.",445,null,{"$f":"(VLOOKUP(G259,Suvestine!B:D,3,0))*(ROUND((E259*D259),2))","v":0},22101000940060,22101000940060,0]
[215,"K-104","vnt.",458,null,{"$f":"(VLOOKUP(G260,Suvestine!B:D,3,0))*(ROUND((E260*D260),2))","v":0},22101000940060,22101000940060,0]
[216,"K-104M","vnt.",482,null,{"$f":"(VLOOKUP(G261,Suvestine!B:D,3,0))*(ROUND((E261*D261),2))","v":0},22101000940060,22101000940060,0]
[217,"KM-1M","vnt.",482,null,{"$f":"(VLOOKUP(G262,Suvestine!B:D,3,0))*(ROUND((E262*D262),2))","v":0},22101000940060,22101000940060,0]
[218,"KRU-2-10","vnt.",708,null,{"$f":"(VLOOKUP(G263,Suvestine!B:D,3,0))*(ROUND((E263*D263),2))","v":0},22101000940060,22101000940060,0]
[219,"KZ-02U1","vnt.",774,null,{"$f":"(VLOOKUP(G264,Suvestine!B:D,3,0))*(ROUND((E264*D264),2))","v":0},22101000940060,22101000940060,0]
[220,"KRN-10","vnt.",578,null,{"$f":"(VLOOKUP(G265,Suvestine!B:D,3,0))*(ROUND((E265*D265),2))","v":0},22101000940060,22101000940060,0]
[221,"K-XXVI","vnt.",578,null,{"$f":"(VLOOKUP(G266,Suvestine!B:D,3,0))*(ROUND((E266*D266),2))","v":0},22101000940060,22101000940060,0]
[222,"KRN-IV","vnt.",650,null,{"$f":"(VLOOKUP(G267,Suvestine!B:D,3,0))*(ROUND((E267*D267),2))","v":0},22101000940060,22101000940060,0]
[223,"KRN-II","vnt.",700,null,{"$f":"(VLOOKUP(G268,Suvestine!B:D,3,0))*(ROUND((E268*D268),2))","v":0},22101000940060,22101000940060,0]
[224,"K-III","vnt.",850,null,{"$f":"(VLOOKUP(G269,Suvestine!B:D,3,0))*(ROUND((E269*D269),2))","v":0},22101000940060,22101000940060,0]
[225,"KSO-366","vnt.",230,null,{"$f":"(VLOOKUP(G270,Suvestine!B:D,3,0))*(ROUND((E270*D270),2))","v":0},22101000940060,22101000940060,0]
[226,"K-XIII","vnt.",750,null,{"$f":"(VLOOKUP(G271,Suvestine!B:D,3,0))*(ROUND((E271*D271),2))","v":0},22101000940060,22101000940060,0]
[227,"K-VI","vnt.",850,null,{"$f":"(VLOOKUP(G272,Suvestine!B:D,3,0))*(ROUND((E272*D272),2))","v":0},22101000940060,22101000940060,0]
[228,"K-34","vnt.",320,null,{"$f":"(VLOOKUP(G273,Suvestine!B:D,3,0))*(ROUND((E273*D273),2))","v":0},22101000940060,22101000940060,0]
[229,"K-III-U","vnt.",340,null,{"$f":"(VLOOKUP(G274,Suvestine!B:D,3,0))*(ROUND((E274*D274),2))","v":0},22101000940060,22101000940060,0]
[230,"KRUN-10","vnt.",600,null,{"$f":"(VLOOKUP(G275,Suvestine!B:D,3,0))*(ROUND((E275*D275),2))","v":0},22101000940060,22101000940060,0]
[231,"KBP-6","vnt.",710,null,{"$f":"(VLOOKUP(G276,Suvestine!B:D,3,0))*(ROUND((E276*D276),2))","v":0},22101000940060,22101000940060,0]
[232,"KBĖ-10","vnt.",600,null,{"$f":"(VLOOKUP(G277,Suvestine!B:D,3,0))*(ROUND((E277*D277),2))","v":0},22101000940060,22101000940060,0]
[233,"K-59","vnt.",805,null,{"$f":"(VLOOKUP(G278,Suvestine!B:D,3,0))*(ROUND((E278*D278),2))","v":0},22101000940060,22101000940060,0]
[234,"K-IV","vnt.",555,null,{"$f":"(VLOOKUP(G279,Suvestine!B:D,3,0))*(ROUND((E279*D279),2))","v":0},22101000940060,22101000940060,0]
[235,"KVP-10","vnt.",685,null,{"$f":"(VLOOKUP(G280,Suvestine!B:D,3,0))*(ROUND((E280*D280),2))","v":0},22101000940060,22101000940060,0]
[236,"K-XV","vnt.",580,null,{"$f":"(VLOOKUP(G281,Suvestine!B:D,3,0))*(ROUND((E281*D281),2))","v":0},22101000940060,22101000940060,0]
[237,"K-XXVII","vnt.",660,null,{"$f":"(VLOOKUP(G282,Suvestine!B:D,3,0))*(ROUND((E282*D282),2))","v":0},22101000940060,22101000940060,0]
[238,"KSO-3","vnt.",190,null,{"$f":"(VLOOKUP(G283,Suvestine!B:D,3,0))*(ROUND((E283*D283),2))","v":0},22101000940060,22101000940060,0]
[239,"KRU ST-7","vnt.",730,null,{"$f":"(VLOOKUP(G284,Suvestine!B:D,3,0))*(ROUND((E284*D284),2))","v":0},22101000940060,22101000940060,0]
[240,"K-XI","vnt.",812,null,{"$f":"(VLOOKUP(G285,Suvestine!B:D,3,0))*(ROUND((E285*D285),2))","v":0},22101000940060,22101000940060,0]
[241,"K-II","vnt.",210,null,{"$f":"(VLOOKUP(G286,Suvestine!B:D,3,0))*(ROUND((E286*D286),2))","v":0},22101000940060,22101000940060,{"$f":"IF(E286<>\"\",1,0)","v":0}]
[242,"SKTP","vnt.",461,null,{"$f":"(VLOOKUP(G287,Suvestine!B:D,3,0))*(ROUND((E287*D287),2))","v":0},22101000940060,22101000940060,0]
[null,"35 kV jungtuvai",null,null,null,null,null,null,0]
[243,"VTD-35","vnt.",430,null,{"$f":"(VLOOKUP(G289,Suvestine!B:D,3,0))*(ROUND((E289*D289),2))","v":0},22101000540017,22101000540017,0]
[244,"VT-35","vnt.",430,null,{"$f":"(VLOOKUP(G290,Suvestine!B:D,3,0))*(ROUND((E290*D290),2))","v":0},22101000540017,22101000540017,0]
[245,"S-35M","vnt.",500,null,{"$f":"(VLOOKUP(G291,Suvestine!B:D,3,0))*(ROUND((E291*D291),2))","v":0},22101000540017,22101000540017,0]
[246,"VM-35","vnt.",500,null,{"$f":"(VLOOKUP(G292,Suvestine!B:D,3,0))*(ROUND((E292*D292),2))","v":0},22101000540017,22101000540017,0]
[247,"VBF 36","vnt.",400,null,{"$f":"(VLOOKUP(G293,Suvestine!B:D,3,0))*(ROUND((E293*D293),2))","v":0},22101000540017,22101000540017,0]
[248,"VMD-35","vnt.",500,null,{"$f":"(VLOOKUP(G294,Suvestine!B:D,3,0))*(ROUND((E294*D294),2))","v":0},22101000540017,22101000540017,0]
[249,"MG-35","vnt.",400,null,{"$f":"(VLOOKUP(G295,Suvestine!B:D,3,0))*(ROUND((E295*D295),2))","v":0},22101000540017,22101000540017,0]
[250,"S-35","vnt.",450,null,{"$f":"(VLOOKUP(G296,Suvestine!B:D,3,0))*(ROUND((E296*D296),2))","v":0},22101000540017,22101000540017,0]
[null,"35 kV skyrikliai",null,null,null,null,null,null,0]
[251,"RND(Z)-35","vnt.",90,null,{"$f":"(VLOOKUP(G298,Suvestine!B:D,3,0))*(ROUND((E298*D298),2))","v":0},22101000540017,22101000540017,0]
[252,"RNDZ-2-35","vnt.",130,null,{"$f":"(VLOOKUP(G299,Suvestine!B:D,3,0))*(ROUND((E299*D299),2))","v":0},22101000540017,22101000540017,0]
[253,"RNDZ-1-35","vnt.",85,null,{"$f":"(VLOOKUP(G300,Suvestine!B:D,3,0))*(ROUND((E300*D300),2))","v":0},22101000540017,22101000540017,0]
[254,"RLND(Z)-35","vnt.",80,null,{"$f":"(VLOOKUP(G301,Suvestine!B:D,3,0))*(ROUND((E301*D301),2))","v":0},22101000540017,22101000540017,0]
[255,"RLND-1-35","vnt.",40,null,{"$f":"(VLOOKUP(G302,Suvestine!B:D,3,0))*(ROUND((E302*D302),2))","v":0},22101000540017,22101000540017,0]
[256,"RLND-2-35","vnt.",45,null,{"$f":"(VLOOKUP(G303,Suvestine!B:D,3,0))*(ROUND((E303*D303),2))","v":0},22101000540017,22101000540017,0]
[null,"35 kV srovės transformatoriai",null,null,null,null,null,null,0]
[257,"TV-35/10","vnt.",10,null,{"$f":"(VLOOKUP(G305,Suvestine!B:D,3,0))*(ROUND((E305*D305),2))","v":0},22101000540017,22101000540017,0]
[258,"TVDM-35/200","vnt.",13,null,{"$f":"(VLOOKUP(G306,Suvestine!B:D,3,0))*(ROUND((E306*D306),2))","v":0},22101000540017,22101000540017,0]
[null,"35 kV įtampos transformatoriai",null,null,null,null,null,null,0]
[259,"ZNOM-35","vnt.",30,null,{"$f":"(VLOOKUP(G308,Suvestine!B:D,3,0))*(ROUND((E308*D308),2))","v":0},22101000540017,22101000540017,0]
[260,"NOM-35","vnt.",30,null,{"$f":"(VLOOKUP(G309,Suvestine!B:D,3,0))*(ROUND((E309*D309),2))","v":0},22101000540017,22101000540017,0]
[null,"35 kV įtampos transformatoriai",null,null,null,null,null,null,0]
[261,"U60AB","vnt.",2400,null,{"$f":"(VLOOKUP(G311,Suvestine!B:D,3,0))*(ROUND((E311*D311),2))","v":0},22101000540017,22101000540017,0]
[262,"U110","vnt.",5000,null,{"$f":"(VLOOKUP(G312,Suvestine!B:D,3,0))*(ROUND((E312*D312),2))","v":0},22101000540017,22101000540017,0]
[263,"UAP35","vnt.",2300,null,{"$f":"(VLOOKUP(G313,Suvestine!B:D,3,0))*(ROUND((E313*D313),2))","v":0},22101000540017,22101000540017,0]
[null,"35 kV g/b atramos traversos",null,null,null,null,null,null,0]
[264,"PB 35-1","vnt.",43,null,{"$f":"(VLOOKUP(G315,Suvestine!B:D,3,0))*(ROUND((E315*D315),2))","v":0},22101000540017,22101000540017,0]
[265,"PB 35-1B","vnt.",46,null,{"$f":"(VLOOKUP(G316,Suvestine!B:D,3,0))*(ROUND((E316*D316),2))","v":0},22101000540017,22101000540017,0]
[266,"PB 35-2B","vnt.",54,null,{"$f":"(VLOOKUP(G317,Suvestine!B:D,3,0))*(ROUND((E317*D317),2))","v":0},22101000540017,22101000540017,0]
[267,"PB 35-3B","vnt.",57,null,{"$f":"(VLOOKUP(G318,Suvestine!B:D,3,0))*(ROUND((E318*D318),2))","v":0},22101000540017,22101000540017,0]
[268,"\"Kregždė\" RKA-G-1","vnt.",80,null,{"$f":"(VLOOKUP(G319,Suvestine!B:D,3,0))*(ROUND((E319*D319),2))","v":0},22101000540017,22101000540017,0]
[269,"Tarpinės atramos TA-3,5 ir TA-4,5 traversa","vnt.",55,null,{"$f":"(VLOOKUP(G320,Suvestine!B:D,3,0))*(ROUND((E320*D320),2))","v":0},22101000540017,22101000540017,0]
[270,"Kampinė atrama su atotampa KKA-3/3, KKA-4/6, KDA-3/5, KDA-4/6 ","vnt.",90,null,{"$f":"(VLOOKUP(G321,Suvestine!B:D,3,0))*(ROUND((E321*D321),2))","v":0},22101000540017,22101000540017,0]
[271,"Atramos PB-33 traversa","vnt.",65,null,{"$f":"(VLOOKUP(G322,Suvestine!B:D,3,0))*(ROUND((E322*D322),2))","v":0},22101000540017,22101000540017,0]
[272,"Dvigrandės atramos PB-22 traversa","vnt.",150,null,{"$f":"(VLOOKUP(G323,Suvestine!B:D,3,0))*(ROUND((E323*D323),2))","v":0},22101000540017,22101000540017,0]
[null,"Spintos",null,null,null,null,null,null,0]
[273,"Apskaitos spintos vienfazės 1 ir 2 apskaitos modulių","vnt.",9.5,null,{"$f":"(VLOOKUP(G325,Suvestine!B:D,3,0))*(ROUND((E325*D325),2))","v":0},22101000940060,22101000940060,0]
[274,"Apskaitos spintos vienfazės 4 ir 6 apskaitų modulių","vnt.",21.85,null,{"$f":"(VLOOKUP(G326,Suvestine!B:D,3,0))*(ROUND((E326*D326),2))","v":0},22101000940060,22101000940060,0]
[275,"Apskaitos spintos trifazės 1 apskaitos modulių","vnt.",9.5,null,{"$f":"(VLOOKUP(G327,Suvestine!B:D,3,0))*(ROUND((E327*D327),2))","v":0},22101000940060,22101000940060,0]
[276,"Apskaitos spintos trifazės 2 apskaitų modulių","vnt.",14.25,null,{"$f":"(VLOOKUP(G328,Suvestine!B:D,3,0))*(ROUND((E328*D328),2))","v":0},22101000940060,22101000940060,0]
[277,"Apskaitos spintos trifazės 4 apskaitų modulių","vnt.",36.1,null,{"$f":"(VLOOKUP(G329,Suvestine!B:D,3,0))*(ROUND((E329*D329),2))","v":0},22101000940060,22101000940060,0]
[278,"Apskaitos spintos trifazės 6 apskaitų modulių","vnt.",45.6,null,{"$f":"(VLOOKUP(G330,Suvestine!B:D,3,0))*(ROUND((E330*D330),2))","v":0},22101000940060,22101000940060,0]
[279,"Kabelių spintos be apskaitų modulių","vnt.",39.9,null,{"$f":"(VLOOKUP(G331,Suvestine!B:D,3,0))*(ROUND((E331*D331),2))","v":0},22101000940060,22101000940060,0]
[280,"Kabelių spintos su 1 apskaitos moduliu","vnt.",47.5,null,{"$f":"(VLOOKUP(G332,Suvestine!B:D,3,0))*(ROUND((E332*D332),2))","v":0},22101000940060,22101000940060,0]
[281,"Kabelių spintos su 2 apskaitos moduliu","vnt.",56.05,null,{"$f":"(VLOOKUP(G333,Suvestine!B:D,3,0))*(ROUND((E333*D333),2))","v":0},22101000940060,22101000940060,0]
[282,"Kabelių spintos su 4 ir daugiau apskaitos moduliais","vnt.",61.75,null,{"$f":"(VLOOKUP(G334,Suvestine!B:D,3,0))*(ROUND((E334*D334),2))","v":0},22101000940060,22101000940060,0]
[null,null,null,"iš viso:",{"$f":"SUM(E30:E334)","v":0},{"$f":"SUM(F30:F334)","v":0}]
[]
[]
[]
[]
[null,"Atsakingas asmuo\n(Techninis prižiūrėtojas)",null,null,null,null,null,{"$f":"IFERROR(IF(F340<>\"\",VLOOKUP(F340,darbinis!I:J,2,0),\"\"),\"\")","v":""}]
[null,null,null,null,null,"Vardas, pavardė, parašas"]
[]
[null,"Darbų vykdytojas\n(Rangovas)"]
[null,null," ",null,null,"Vardas, pavardė, parašas"]

{"sheet":"Suvestine","index":1,"n_rows":24,"n_cols":6,"rows_kept":24,"cut":false,"hidden":false,"merged":[]}
[]
[{"$f":"'GM aktas'!A7","v":"1."},{"$f":"'GM aktas'!B7","v":"Rangovas"},{"$f":"'GM aktas'!C7","v":"pasirinkti"}]
[{"$f":"'GM aktas'!A9","v":"2."},{"$f":"'GM aktas'!B9","v":"Rangos darbų sutarties Nr."},{"$f":"'GM aktas'!C9","v":"Įveskite Sutarties Nr."}]
[{"$f":"'GM aktas'!A11","v":"3."},{"$f":"'GM aktas'!B11","v":"Rangos darbų užsakymo Nr. (iš TIVIS)"},{"$f":"'GM aktas'!C11","v":"Užpildyti"}]
[{"$f":"'GM aktas'!A13","v":"4."},{"$f":"'GM aktas'!B13","v":"Objekto pavadinimas pagal TIVIS:"},{"$f":"'GM aktas'!C13","v":"Užpildyti"}]
[{"$f":"'GM aktas'!A15","v":"5."},{"$f":"'GM aktas'!B15","v":"Investicinis Nr./Darbų Nr.  (iš TIVIS)"},{"$f":"'GM aktas'!C15","v":"Užpildyti"}]
[{"$f":"'GM aktas'!A16","v":"6."},{"$f":"'GM aktas'!B16","v":"Objekto Nr. (iš TIVIS)"},{"$f":"'GM aktas'!C16","v":"Užpildyti"}]
[{"$f":"'GM aktas'!A17","v":"7."},{"$f":"'GM aktas'!B17","v":"Grįžtamųjų medžiagų atsiradimo priežastis: "},{"$f":"'GM aktas'!C17","v":"pasirinkti"}]
[{"$f":"'GM aktas'!A19","v":"8."},{"$f":"'GM aktas'!B19","v":"GM akto pateikimo data:"},{"$f":"'GM aktas'!C19","v":"202x-xx-xx"}]
[{"$f":"'GM aktas'!A21","v":"9."},{"$f":"'GM aktas'!B21","v":"Atliktų darbų akto* pateikimo data:"},{"$f":"'GM aktas'!C21","v":"202x-xx-xx"}]
["Eil. Nr. ","Dynamics kodas","Rangovui parduodamos grįžtamosios medžiagos (prekės) kategorija","Kategorijos įkainis, Eur be PVM/kg","Kiekis viso, kg","Suma viso, Eur"]
[1,22101000540007,"Prekė - A tipo laidas",1.91,{"$f":"F12/D12","v":0},{"$f":"SUMIF('GM aktas'!$G$30:$G$334,B12,'GM aktas'!$F$30:$F$334)","v":0}]
[2,22101000540013,"Prekė - AS tipo laidas",1.0900000000000001,{"$f":"F13/D13","v":0},{"$f":"SUMIF('GM aktas'!$G$30:$G$334,B13,'GM aktas'!$F$30:$F$334)","v":0}]
[3,22101000550001,"Prekė - Al kabeliai su plastikine izoliacija",0.52,0,{"$f":"SUMIF('GM aktas'!$G$30:$G$334,B14,'GM aktas'!$F$30:$F$334)","v":0}]
[4,22101000550040,"Prekė - Al izoliuoti oro linijų laidai",0.74,0,{"$f":"SUMIF('GM aktas'!$G$30:$G$334,B15,'GM aktas'!$F$30:$F$334)","v":0}]
[5,22101000820112,"Prekė - medžiagos iš aliuminio, įkainių lentelėje nenurodytos 1-4 pozicijose",1.44,0,{"$f":"SUMIF('GM aktas'!$G$30:$G$334,B16,'GM aktas'!$F$30:$F$334)","v":0}]
[6,22101000550041,"Prekė iš vario",7.19,0,{"$f":"SUMIF('GM aktas'!$G$30:$G$334,B17,'GM aktas'!$F$30:$F$334)","v":0}]
[7,22101000540017,"Prekė iš plieno",0.23,0,{"$f":"SUMIF('GM aktas'!$G$30:$G$334,B18,'GM aktas'!$F$30:$F$334)","v":0}]
[8,22101000940060,"Prekė iš skardos",0.19,0,{"$f":"SUMIF('GM aktas'!$G$30:$G$334,B19,'GM aktas'!$F$30:$F$334)","v":0}]
[null,null,null,null,null,{"$f":"SUM(F12:F19)","v":0}]
[]
[]
[]
[null,null,null,{"$f":"IF(IF('GM aktas'!C23=\"Užpildyti\",\"\",'GM aktas'!C23)=0,C6,IF('GM aktas'!C23=\"Užpildyti\",\"\",'GM aktas'!C23))","v":""}]

{"sheet":"darbinis","index":2,"n_rows":418,"n_cols":13,"rows_kept":418,"cut":false,"hidden":true,"merged":[]}
["Grįžtamųjų medžiagų atsiradimo priežastis: ",null,null,null,null,null,null,null,"Techninis prižiūrėtojas","Skyrius"]
["pasirinkti",null,null,null,null,null,null,null,"Aleksandras Pozniakovas",47031]
["2525002 Įrenginių likvidavimas",null,null,null,null,null,null,null,"Algimantas Barkus",47031]
["6111007 Medžiagų nurašymas",null,null,null,null,null,null,null,"Algirdas Ruzveltas",43033]
[null,null,null,null,null,null,null,null,"Algis Mikelionis",46031]
[null,null,null,null,null,null,null,null,"Algis Sutkaitis",42033]
["Rangovui parduodamų grįžtamųjų medžiagų įkainiai",null,null,null,null,null,null,null,"Alius Giedraitis",46031]
[null,null,null,null,null,null,null,null,"Almantas Subačius",47031]
[null,"Galioja iki * :","2026-06-30",null,null,null,null,null,"Andrius Oleinikas",42033]
[null,null,null,null,null,null,null,null,"Antanas Magelinskas",45031]
["Eil. Nr. ","Rangovui parduodamos grįžtamosios medžiagos (prekės) kategorija","Kategorijos įkainis, Eur be PVM/kg","Dynamics","Scala kodas",null,null,null,"Arnas Januškonis",46031]
[1,"Prekė - A tipo laidas",1.91,22101000540007,45370102002,null,null,null,"Artūras Kmieliauskas",42031]
[2,"Prekė - AS tipo laidas",1.0900000000000001,22101000540013,45371002001,null,null,null,"Arūnas Rumša",42031]
[3,"Prekė - Al kabeliai su plastikine izoliacija",0.52,22101000550001,45030517502,null,null,null,"Arvydas Klapatauskas",43031]
[4,"Prekė - Al izoliuoti oro linijų laidai",0.74,22101000550040,45092002004,null,null,null,"Arvydas Skardžius",45031]
[5,"Prekė - medžiagos iš aliuminio, įkainių lentelėje nenurodytos 1-4 pozicijose",1.44,22101000820112,69250100001,null,null,null,"Dalia Petrauskienė",43033]
[6,"Prekė iš vario",7.19,22101000550041,69330502001,null,null,null,"Dalius Vaižmužis",45031]
[7,"Prekė iš plieno",0.23,22101000540017,67050100081,null,null,null,"Darius Virvilas",42033]
[8,"Prekė iš skardos",0.19,22101000940060,67154005004,null,null,null,"Donatas Mačerinskas",40270]
[null,null,null,null,null,null,null,null,"Egidijus Zasčiurinskas",40220]
["Rangovui  parduodamų grįžtamųjų medžiagų mato vienetų perskaičiavimas",null,null,null,null,null,null,null,"Evaldas Alimas",43033]
[null,null,null,null,null,null,null,null,"Gediminas Kubilius",46031]
["Eil. Nr.","Grįžtamosios medžiagos (prekės) pavadinimas","Mato vnt. ","Grįžtamosios medžiagos (prekės) 1 mato vnt. svoris, kg","Rangovui parduodamos grįžtamosios medžiagos (prekės) kategorija","Scala kodas",null,null,"Gintaras Krencius",43031]
[1,"Traversa T-1","vnt.",0.67,"Prekė iš plieno",22101000540017,null,null,"Gintautas Kaminskas",45031]
[2,"Traversa T-2","vnt.",1.71,"Prekė iš plieno",22101000540017,null,null,"Gintautas Taparauskas",42031]
[3,"Traversa I-1","vnt.",1.71,"Prekė iš plieno",22101000540017,null,null,"Jevgenijus Čaikinas",47031]
[4,"Traversa I-2","vnt.",3.9,"Prekė iš plieno",22101000540017,null,null,"Justas Marčiukaitis",42033]
[5,"Traversa K-1","vnt.",1.52,"Prekė iš plieno",22101000540017,null,null,"Martynas Šeškauskis",43033]
[6,"Traversa K-2","vnt.",3.61,"Prekė iš plieno",22101000540017,null,null,"Rimas Lazickas",45031]
[7,"Ramsčio konstrukcija PTM-1,1","vnt.",4.18,"Prekė iš plieno",22101000540017,null,null,"Rimgaudas Kreivėnas",46031]
[8,"Ramsčio konstrukcija PTM-2,7","vnt.",7.9799999999999995,"Prekė iš plieno",22101000540017,null,null,"Rita Barkauskienė",43036]
[9,"Viršūnė T","vnt.",3.52,"Prekė iš plieno",22101000540017,null,null,"Rolanas Jočys",42033]
[10,"Traversa T","vnt.",6.6499999999999995,"Prekė iš plieno",22101000540017,null,null,"Romualdas Leimontas",45032]
[11,"Viršūnė TA","vnt.",5.51,"Prekė iš plieno",22101000540017,null,null,"Saulius Urbanavičius",47031]
[12,"Traversa TA","vnt.",9.0299999999999994,"Prekė iš plieno",22101000540017,null,null,"Stasys Guobys",47031]
[13,"Viršūnė TK-9","vnt.",5.13,"Prekė iš plieno",22101000540017,null,null,"Tomas Vaicekavičius",42031]
[14,"Traversa TK-9","vnt.",15.01,"Prekė iš plieno",22101000540017,null,null,"Vaidotas Vaitkus",43033]
[15,"Viršūnė TK-9A","vnt.",8.7399999999999984,"Prekė iš plieno",22101000540017,null,null,"Valdas Perkauskas",42031]
[16,"Traversa TK-9A","vnt.",17.670000000000002,"Prekė iš plieno",22101000540017,null,null,"Valentas Strigūnas",43031]
[17,"Viršūnė IA","vnt.",12.35,"Prekė iš plieno",22101000540017,null,null,"Vidas Zmitrys",45031]
[18,"Traversa IA","vnt.",29.93,"Prekė iš plieno",22101000540017,null,null,"Vigandas Adomavičius",47031]
[19,"Traversa I","vnt.",19.29,"Prekė iš plieno",22101000540017,null,null,"Virginijus Čepulis",45031]
[20,"Traversa PTA","vnt.",14.629999999999999,"Prekė iš plieno",22101000540017,null,null,"Virginijus Jurkšaitis",45031]
[21,"Paaukštinimas TP-11","vnt.",76.95,"Prekė iš plieno",22101000540017,null,null,"Virginijus Norkus",43031]
[22,"Apkaba Ap-12-1,1-1","vnt.",0.56999999999999995,"Prekė iš plieno",22101000540017,null,null,"Vitalijus Januševičius",40250]
[23,"Apkaba Ap-12-2,7","vnt.",0.67,"Prekė iš plieno",22101000540017,null,null,"Vytautas Bagdonas",46031]
[24,"Apkaba Ap-12-1,1-2","vnt.",0.56999999999999995,"Prekė iš plieno",22101000540017,null,null,"Vytautas Kavaliauskas",46031]
[25,"Apkaba Ap-16-1,1-1","vnt.",0.86,"Prekė iš plieno",22101000540017,null,null,"Vytautas Lažaunykas",46031]
[26,"Apkaba Ap-16-1,1-2","vnt.",0.95,"Prekė iš plieno",22101000540017,null,null,"Vytautas Liubomirskas",45031]
[27,"Apkaba Ap-16-2,7","vnt.",1.05,"Prekė iš plieno",22101000540017,null,null,"Kitas"]
[28,"Skyriklio laikiklis IS","vnt.",38.479999999999997,"Prekė iš plieno",22101000540017]
[29,"Apskaitos spintos vienfazės 1 ir 2 apskaitos modulių","vnt.",9.5,"Prekė iš skardos",22101000940060]
[30,"Apskaitos spintos vienfazės 4 ir 6 apskaitų modulių","vnt.",21.849999999999998,"Prekė iš skardos",22101000940060]
[31,"Apskaitos spintos trifazės 1 apskaitos modulių","vnt.",9.5,"Prekė iš skardos",22101000940060]
[32,"Apskaitos spintos trifazės 2 apskaitų modulių","vnt.",14.25,"Prekė iš skardos",22101000940060]
[33,"Apskaitos spintos trifazės 4 apskaitų modulių","vnt.",36.1,"Prekė iš skardos",22101000940060]
[34,"Apskaitos spintos trifazės 6 apskaitų modulių","vnt.",45.599999999999994,"Prekė iš skardos",22101000940060]
[35,"Kabelių spintos be apskaitų modulių","vnt.",39.9,"Prekė iš skardos",22101000940060]
[36,"Kabelių spintos su 1 apskaitos moduliu","vnt.",47.5,"Prekė iš skardos",22101000940060]
[37,"Kabelių spintos su 2 apskaitos moduliu","vnt.",56.05,"Prekė iš skardos",22101000940060]
[38,"Kabelių spintos su 4 ir daugiau apskaitos moduliais","vnt.",61.75,"Prekė iš skardos",22101000940060]
[39,"Skyriklis 3RN-2-20-200M","vnt.",119.69999999999999,"Prekė iš plieno",22101000540017]
[40,"Skyriklis 2RN-1-20-200M","vnt.",72.2,"Prekė iš plieno",22101000540017]
[41,"Skyriklis LSP 10-1","vnt.",39.24,"Prekė iš plieno",22101000540017]
[42,"Skyriklis LSP 10-2","vnt.",42.09,"Prekė iš plieno",22101000540017]
[43,"Skyriklis LSP laikiklis","vnt.",14.54,"Prekė iš plieno",22101000540017]
[44,"Skyriklio pavara PR-20-2","vnt.",12.83,"Prekė iš plieno",22101000540017]
[45,"Skyriklio pavaros traukė","vnt.",8.5499999999999989,"Prekė iš plieno",22101000540017]
[46,"Stulpinė transformatorinė ST-10/10 (sena, vienfazė)","vnt.",47.5,"Prekė iš skardos",22101000940060]
[47,"Stulpinė transformatorinė ST-10-63/10","vnt.",126.35,"Prekė iš skardos",22101000940060]
[48,"Stulpinė transformatorinė ST-100-400/10","vnt.",170.04999999999998,"Prekė iš skardos",22101000940060]
[49,"Komplektinė transformatorinė (KTP) 160-400 B","vnt.",1349,"Prekė iš skardos",22101000940060]
[50,"Komplektinė transformatorinė (KTP) 160-400 K","vnt.",1482,"Prekė iš skardos",22101000940060]
[51,"Komplektinė transformatorinė (KTP) 160-400 U","vnt.",1615,"Prekė iš skardos",22101000940060]
[52,"Komplektinė transformatorinė  „Minsko“ tipo","vnt.",213.75,"Prekė iš skardos",22101000940060]
[53,"10 kV narveliai KCO-3Y","vnt.",199.5,"Prekė iš skardos",22101000940060]
[54,"0,4 kV skydeliai ŠČO-59","vnt.",104.5,"Prekė iš skardos",22101000940060]
[55,"Apsauginis lynas TK-35","1 lyno 1 km",247,"Prekė iš plieno",22101000540017]
[56,"Apsauginis lynas TK-50","2 lyno 1 km",357.2,"Prekė iš plieno",22101000540017]
[57,"Kalibruota viela ø10","1 vielos 1 m",0.48,"Prekė iš plieno",22101000540017]
[null,"Laidai"]
[58,"A-16","1 laido 1 km",40.85,"Prekė - A tipo laidas",22101000540007]
[59,"A-25","1 laido 1 km",61.75,"Prekė - A tipo laidas",22101000540007]
[60,"A-35","1 laido 1 km",84.55,"Prekė - A tipo laidas",22101000540007]
[61,"A-50","1 laido 1 km",121.6,"Prekė - A tipo laidas",22101000540007]
[62,"A-70","1 laido 1 km",171,"Prekė - A tipo laidas",22101000540007]
[63,"A-95","1 laido 1 km",227.04999999999998,"Prekė - A tipo laidas",22101000540007]
[64,"A-120","1 laido 1 km",285.95,"Prekė - A tipo laidas",22101000540007]
[65,"A-150","1 laido 1 km",366.7,"Prekė - A tipo laidas",22101000540007]
[66,"A-185","1 laido 1 km",453.15,"Prekė - A tipo laidas",22101000540007]
[67,"A-240","1 laido 1 km",590.9,"Prekė - A tipo laidas",22101000540007]
[68,"AS-10","1 laido 1 km",38.949999999999996,"Prekė - AS tipo laidas",22101000540013]
[69,"AS-16","1 laido 1 km",58.9,"Prekė - AS tipo laidas",22101000540013]
[70,"AS-25","1 laido 1 km",90.25,"Prekė - AS tipo laidas",22101000540013]
[71,"AS-35","1 laido 1 km",133.94999999999999,"Prekė - AS tipo laidas",22101000540013]
[72,"AS-50","1 laido 1 km",175.75,"Prekė - AS tipo laidas",22101000540013]
[73,"AS-70","1 laido 1 km",248.89999999999998,"Prekė - AS tipo laidas",22101000540013]
[74,"AS-95","1 laido 1 km",347.7,"Prekė - AS tipo laidas",22101000540013]
[75,"AS-120","1 laido 1 km",424.65,"Prekė - AS tipo laidas",22101000540013]
[76,"AS-150","1 laido 1 km",562.4,"Prekė - AS tipo laidas",22101000540013]
[77,"AS-185","1 laido 1 km",698.25,"Prekė - AS tipo laidas",22101000540013]
[78,"PS-25","1 laido 1 km",166.25,"Prekė iš plieno",22101000540017]
[79,"PS-35","1 laido 1 km",232.75,"Prekė iš plieno",22101000540017]
[80,"PS-50","1 laido 1 km",332.5,"Prekė iš plieno",22101000540017]
[81,"PSO-3","1 laido 1 km",48.449999999999996,"Prekė iš plieno",22101000540017]
[82,"PSO-4","1 laido 1 km",85.5,"Prekė iš plieno",22101000540017]
[83,"PSO-5","1 laido 1 km",132.04999999999998,"Prekė iš plieno",22101000540017]
[84,"PSO-6","1 laido 1 km",190,"Prekė iš plieno",22101000540017]
[85,"M-4","1 laido 1 km",31.349999999999998,"Prekė iš vario",22101000550041]
[86,"M-6","1 laido 1 km",46.55,"Prekė iš vario",22101000550041]
[87,"M-10","1 laido 1 km",79.8,"Prekė iš vario",22101000550041]
[88,"M-16","1 laido 1 km",128.25,"Prekė iš vario",22101000550041]
[89,"M-25","1 laido 1 km",202.35,"Prekė iš vario",22101000550041]
[90,"M-35","1 laido 1 km",280.25,"Prekė iš vario",22101000550041]
[91,"M-50","1 laido 1 km",400.9,"Prekė iš vario",22101000550041]
[92,"M-70","1 laido 1 km",551.94999999999993,"Prekė iš vario",22101000550041]
[93,"APV laidas – 10 mm²","1 laido 1 km",44.65,"Prekė - Al izoliuoti oro linijų laidai",22101000550040]
[94,"APV laidas – 16 mm²","1 laido 1 km",62.699999999999996,"Prekė - Al izoliuoti oro linijų laidai",22101000550040]
[95,"APV laidas – 25 mm²","1 laido 1 km",108.3,"Prekė - Al izoliuoti oro linijų laidai",22101000550040]
[96,"APV laidas – 35 mm²","1 laido 1 km",138.69999999999999,"Prekė - Al izoliuoti oro linijų laidai",22101000550040]
[97,"APV laidas – 50 mm²","1 laido 1 km",191.89999999999998,"Prekė - Al izoliuoti oro linijų laidai",22101000550040]
[98,"APV laidas – 70 mm²","1 laido 1 km",266,"Prekė - Al izoliuoti oro linijų laidai",22101000550040]
[99,"APV laidas – 95 mm²","1 laido 1 km",365.75,"Prekė - Al izoliuoti oro linijų laidai",22101000550040]
[100,"APV laidas – 120 mm²","1 laido 1 km",441.75,"Prekė - Al izoliuoti oro linijų laidai",22101000550040]
[null,"10 kV kabeliai"]
[101,"AAŠvU 3x16","1 kabelio 1 km",1235,"Prekė - medžiagos iš aliuminio, įkainių lentelėje nenurodytos 1-4 pozicijose",22101000820112]
[102,"AAŠvU 3x25","1 kabelio 1 km",1267,"Prekė - medžiagos iš aliuminio, įkainių lentelėje nenurodytos 1-4 pozicijose",22101000820112]
[103,"AAŠvU 3x35","1 kabelio 1 km",1442,"Prekė - medžiagos iš aliuminio, įkainių lentelėje nenurodytos 1-4 pozicijose",22101000820112]
[104,"AAŠvU 3x50","1 kabelio 1 km",1702.4,"Prekė - medžiagos iš aliuminio, įkainių lentelėje nenurodytos 1-4 pozicijose",22101000820112]
[105,"AAŠvU 3x70","1 kabelio 1 km",1973,"Prekė - medžiagos iš aliuminio, įkainių lentelėje nenurodytos 1-4 pozicijose",22101000820112]
[106,"AAŠvU 3x70*","1 kabelio 1 km",2110,"Prekė - medžiagos iš aliuminio, įkainių lentelėje nenurodytos 1-4 pozicijose",22101000820112]
[107,"AAŠvU 3x95","1 kabelio 1 km",2339,"Prekė - medžiagos iš aliuminio, įkainių lentelėje nenurodytos 1-4 pozicijose",22101000820112]
[108,"AAŠvU 3x95*","1 kabelio 1 km",2510,"Prekė - medžiagos iš aliuminio, įkainių lentelėje nenurodytos 1-4 pozicijose",22101000820112]
[109,"AAŠvU 3x120","1 kabelio 1 km",2669.5,"Prekė - medžiagos iš aliuminio, įkainių lentelėje nenurodytos 1-4 pozicijose",22101000820112]
[110,"AAŠvU 3x120*","1 kabelio 1 km",3008,"Prekė - medžiagos iš aliuminio, įkainių lentelėje nenurodytos 1-4 pozicijose",22101000820112]
[111,"AAŠvU 3x150","1 kabelio 1 km",3142.6,"Prekė - medžiagos iš aliuminio, įkainių lentelėje nenurodytos 1-4 pozicijose",22101000820112]
[112,"AAŠvU 3x150*","1 kabelio 1 km",3449.5,"Prekė - medžiagos iš aliuminio, įkainių lentelėje nenurodytos 1-4 pozicijose",22101000820112]
[113,"AAŠvU 3x185","1 kabelio 1 km",3615,"Prekė - medžiagos iš aliuminio, įkainių lentelėje nenurodytos 1-4 pozicijose",22101000820112]
[114,"AAŠvU 3x185*","1 kabelio 1 km",3908,"Prekė - medžiagos iš aliuminio, įkainių lentelėje nenurodytos 1-4 pozicijose",22101000820112]
[115,"AAŠvU 3x240","1 kabelio 1 km",4249,"Prekė - medžiagos iš aliuminio, įkainių lentelėje nenurodytos 1-4 pozicijose",22101000820112]
[116,"AAŠvU 3x240*","1 kabelio 1 km",4738.6000000000004,"Prekė - medžiagos iš aliuminio, įkainių lentelėje nenurodytos 1-4 pozicijose",22101000820112]
[null,"10 kV kabeliai aliuminio gyslomis aliuminio apvalkale"]
[117,"AABLU 3x16","1 kabelio 1 km",2058,"Prekė - medžiagos iš aliuminio, įkainių lentelėje nenurodytos 1-4 pozicijose",22101000820112]
[118,"AABLU 3x25","1 kabelio 1 km",2088,"Prekė - medžiagos iš aliuminio, įkainių lentelėje nenurodytos 1-4 pozicijose",22101000820112]
[119,"AABLU 3x35","1 kabelio 1 km",2307.5,"Prekė - medžiagos iš aliuminio, įkainių lentelėje nenurodytos 1-4 pozicijose",22101000820112]
[120,"AABLU 3x50","1 kabelio 1 km",2592.5,"Prekė - medžiagos iš aliuminio, įkainių lentelėje nenurodytos 1-4 pozicijose",22101000820112]
[121,"AABLU 3x70","1 kabelio 1 km",2916.5,"Prekė - medžiagos iš aliuminio, įkainių lentelėje nenurodytos 1-4 pozicijose",22101000820112]
[122,"AABLU 3x70*","1 kabelio 1 km",3009,"Prekė - medžiagos iš aliuminio, įkainių lentelėje nenurodytos 1-4 pozicijose",22101000820112]
[123,"AABLU 3x95","1 kabelio 1 km",3349.7,"Prekė - medžiagos iš aliuminio, įkainių lentelėje nenurodytos 1-4 pozicijose",22101000820112]
[124,"AABLU 3x95*","1 kabelio 1 km",3570,"Prekė - medžiagos iš aliuminio, įkainių lentelėje nenurodytos 1-4 pozicijose",22101000820112]
[125,"AABLU 3x120","1 kabelio 1 km",3733.5,"Prekė - medžiagos iš aliuminio, įkainių lentelėje nenurodytos 1-4 pozicijose",22101000820112]
[126,"AABLU 3x120*","1 kabelio 1 km",4112.5,"Prekė - medžiagos iš aliuminio, įkainių lentelėje nenurodytos 1-4 pozicijose",22101000820112]
[127,"AABLU 3x150","1 kabelio 1 km",4235,"Prekė - medžiagos iš aliuminio, įkainių lentelėje nenurodytos 1-4 pozicijose",22101000820112]
[128,"AABLU 3x150*","1 kabelio 1 km",4619,"Prekė - medžiagos iš aliuminio, įkainių lentelėje nenurodytos 1-4 pozicijose",22101000820112]
[129,"AABLU 3x185","1 kabelio 1 km",4775,"Prekė - medžiagos iš aliuminio, įkainių lentelėje nenurodytos 1-4 pozicijose",22101000820112]
[130,"AABLU 3x185*","1 kabelio 1 km",5144,"Prekė - medžiagos iš aliuminio, įkainių lentelėje nenurodytos 1-4 pozicijose",22101000820112]
[131,"AABLU 3x240","1 kabelio 1 km",5491,"Prekė - medžiagos iš aliuminio, įkainių lentelėje nenurodytos 1-4 pozicijose",22101000820112]
[132,"AABLU 3x240*","1 kabelio 1 km",6695.6,"Prekė - medžiagos iš aliuminio, įkainių lentelėje nenurodytos 1-4 pozicijose",22101000820112]
[null,"10 kV kabeliai aliuminio gyslomis švino apvalkale"]
[133,"ASBU 3x50","1 kabelio 1 km",3626,"Prekė - medžiagos iš aliuminio, įkainių lentelėje nenurodytos 1-4 pozicijose",22101000820112]
[134,"ASBU 3x70","1 kabelio 1 km",4145,"Prekė - medžiagos iš aliuminio, įkainių lentelėje nenurodytos 1-4 pozicijose",22101000820112]
[135,"ASBU 3x95","1 kabelio 1 km",4808,"Prekė - medžiagos iš aliuminio, įkainių lentelėje nenurodytos 1-4 pozicijose",22101000820112]
[136,"ASBU 3x120","1 kabelio 1 km",5268,"Prekė - medžiagos iš aliuminio, įkainių lentelėje nenurodytos 1-4 pozicijose",22101000820112]
[137,"ASBU 3x150","1 kabelio 1 km",5821,"Prekė - medžiagos iš aliuminio, įkainių lentelėje nenurodytos 1-4 pozicijose",22101000820112]
[138,"ASBU 3x150*","1 kabelio 1 km",6054,"Prekė - medžiagos iš aliuminio, įkainių lentelėje nenurodytos 1-4 pozicijose",22101000820112]
[139,"ASBU 3x185","1 kabelio 1 km",6545,"Prekė - medžiagos iš aliuminio, įkainių lentelėje nenurodytos 1-4 pozicijose",22101000820112]
[140,"ASBU 3x185*","1 kabelio 1 km",6877,"Prekė - medžiagos iš aliuminio, įkainių lentelėje nenurodytos 1-4 pozicijose",22101000820112]
[141,"ASBU 3x240","1 kabelio 1 km",7426,"Prekė - medžiagos iš aliuminio, įkainių lentelėje nenurodytos 1-4 pozicijose",22101000820112]
[142,"ASBU 3x240*","1 kabelio 1 km",8693,"Prekė - medžiagos iš aliuminio, įkainių lentelėje nenurodytos 1-4 pozicijose",22101000820112]
[null,"6 kV kabeliai aliuminio gyslomis švino apvalkale"]
[143,"ASBU 3x50","1 kabelio 1 km",3125.5,"Prekė - medžiagos iš aliuminio, įkainių lentelėje nenurodytos 1-4 pozicijose",22101000820112]
[144,"ASBU 3x70","1 kabelio 1 km",3517,"Prekė - medžiagos iš aliuminio, įkainių lentelėje nenurodytos 1-4 pozicijose",22101000820112]
[145,"ASBU 3x95","1 kabelio 1 km",3972,"Prekė - medžiagos iš aliuminio, įkainių lentelėje nenurodytos 1-4 pozicijose",22101000820112]
[146,"ASBU 3x120","1 kabelio 1 km",4546,"Prekė - medžiagos iš aliuminio, įkainių lentelėje nenurodytos 1-4 pozicijose",22101000820112]
[147,"ASBU 3x150","1 kabelio 1 km",5232,"Prekė - medžiagos iš aliuminio, įkainių lentelėje nenurodytos 1-4 pozicijose",22101000820112]
[148,"ASBU 3x150*","1 kabelio 1 km",5434,"Prekė - medžiagos iš aliuminio, įkainių lentelėje nenurodytos 1-4 pozicijose",22101000820112]
[149,"ASBU 3x185","1 kabelio 1 km",5769,"Prekė - medžiagos iš aliuminio, įkainių lentelėje nenurodytos 1-4 pozicijose",22101000820112]
[150,"ASBU 3x185*","1 kabelio 1 km",6049,"Prekė - medžiagos iš aliuminio, įkainių lentelėje nenurodytos 1-4 pozicijose",22101000820112]
[151,"ASBU 3x240","1 kabelio 1 km",6774,"Prekė - medžiagos iš aliuminio, įkainių lentelėje nenurodytos 1-4 pozicijose",22101000820112]
[152,"ASBU 3x240*","1 kabelio 1 km",7201,"Prekė - medžiagos iš aliuminio, įkainių lentelėje nenurodytos 1-4 pozicijose",22101000820112]
[null,"0,4 kV kabeliai aliuminio gyslomis aliuminio apvalkale"]
[153,"AAŠvU 3x35","1 kabelio 1 km",750,"Prekė - medžiagos iš aliuminio, įkainių lentelėje nenurodytos 1-4 pozicijose",22101000820112]
[154,"AAŠvU 3x50","1 kabelio 1 km",954,"Prekė - medžiagos iš aliuminio, įkainių lentelėje nenurodytos 1-4 pozicijose",22101000820112]
[155,"AAŠvU 3x70","1 kabelio 1 km",1207,"Prekė - medžiagos iš aliuminio, įkainių lentelėje nenurodytos 1-4 pozicijose",22101000820112]
[156,"AAŠvU 3x70*","1 kabelio 1 km",1301,"Prekė - medžiagos iš aliuminio, įkainių lentelėje nenurodytos 1-4 pozicijose",22101000820112]
[157,"AAŠvU 3x95","1 kabelio 1 km",1510,"Prekė - medžiagos iš aliuminio, įkainių lentelėje nenurodytos 1-4 pozicijose",22101000820112]
[158,"AAŠvU 3x95*","1 kabelio 1 km",1622,"Prekė - medžiagos iš aliuminio, įkainių lentelėje nenurodytos 1-4 pozicijose",22101000820112]
[159,"AAŠvU 3x120","1 kabelio 1 km",1826,"Prekė - medžiagos iš aliuminio, įkainių lentelėje nenurodytos 1-4 pozicijose",22101000820112]
[160,"AAŠvU 3x120*","1 kabelio 1 km",2028,"Prekė - medžiagos iš aliuminio, įkainių lentelėje nenurodytos 1-4 pozicijose",22101000820112]
[161,"AAŠvU 3x150","1 kabelio 1 km",2173,"Prekė - medžiagos iš aliuminio, įkainių lentelėje nenurodytos 1-4 pozicijose",22101000820112]
[162,"AAŠvU 3x150*","1 kabelio 1 km",2383,"Prekė - medžiagos iš aliuminio, įkainių lentelėje nenurodytos 1-4 pozicijose",22101000820112]
[163,"AAŠvU 3x185","1 kabelio 1 km",2572,"Prekė - medžiagos iš aliuminio, įkainių lentelėje nenurodytos 1-4 pozicijose",22101000820112]
[164,"AAŠvU 3x185*","1 kabelio 1 km",2913,"Prekė - medžiagos iš aliuminio, įkainių lentelėje nenurodytos 1-4 pozicijose",22101000820112]
[165,"AAŠvU 3x240","1 kabelio 1 km",3239,"Prekė - medžiagos iš aliuminio, įkainių lentelėje nenurodytos 1-4 pozicijose",22101000820112]
[166,"AAŠvU 3x240*","1 kabelio 1 km",3666,"Prekė - medžiagos iš aliuminio, įkainių lentelėje nenurodytos 1-4 pozicijose",22101000820112]
[null,"0,4 kV kabeliai aliuminio gyslomis aliuminio apvalkale"]
[167,"AABLU 3x50","1 kabelio 1 km",1630,"Prekė - medžiagos iš aliuminio, įkainių lentelėje nenurodytos 1-4 pozicijose",22101000820112]
[168,"AABLU 3x70","1 kabelio 1 km",1944,"Prekė - medžiagos iš aliuminio, įkainių lentelėje nenurodytos 1-4 pozicijose",22101000820112]
[169,"AABLU 3x70*","1 kabelio 1 km",2085,"Prekė - medžiagos iš aliuminio, įkainių lentelėje nenurodytos 1-4 pozicijose",22101000820112]
[170,"AABLU 3x95","1 kabelio 1 km",2318,"Prekė - medžiagos iš aliuminio, įkainių lentelėje nenurodytos 1-4 pozicijose",22101000820112]
[171,"AABLU 3x95*","1 kabelio 1 km",2482,"Prekė - medžiagos iš aliuminio, įkainių lentelėje nenurodytos 1-4 pozicijose",22101000820112]
[172,"AABLU 3x120","1 kabelio 1 km",2708,"Prekė - medžiagos iš aliuminio, įkainių lentelėje nenurodytos 1-4 pozicijose",22101000820112]
[173,"AABLU 3x120*","1 kabelio 1 km",2955,"Prekė - medžiagos iš aliuminio, įkainių lentelėje nenurodytos 1-4 pozicijose",22101000820112]
[174,"AABLU 3x150","1 kabelio 1 km",3086,"Prekė - medžiagos iš aliuminio, įkainių lentelėje nenurodytos 1-4 pozicijose",22101000820112]
[175,"AABLU 3x150*","1 kabelio 1 km",3374,"Prekė - medžiagos iš aliuminio, įkainių lentelėje nenurodytos 1-4 pozicijose",22101000820112]
[176,"AABLU 3x185","1 kabelio 1 km",3559,"Prekė - medžiagos iš aliuminio, įkainių lentelėje nenurodytos 1-4 pozicijose",22101000820112]
[177,"AABLU 3x185*","1 kabelio 1 km",3993,"Prekė - medžiagos iš aliuminio, įkainių lentelėje nenurodytos 1-4 pozicijose",22101000820112]
[178,"AABLU 3x240","1 kabelio 1 km",4325,"Prekė - medžiagos iš aliuminio, įkainių lentelėje nenurodytos 1-4 pozicijose",22101000820112]
[179,"AABLU 3x240*","1 kabelio 1 km",4824,"Prekė - medžiagos iš aliuminio, įkainių lentelėje nenurodytos 1-4 pozicijose",22101000820112]
[null,"0,4 kV kabeliai aliuminio gyslomis švino apvalkale"]
[180,"ASBU 4x35","1 kabelio 1 km",2138,"Prekė - medžiagos iš aliuminio, įkainių lentelėje nenurodytos 1-4 pozicijose",22101000820112]
[181,"ASBU 4x50","1 kabelio 1 km",2604,"Prekė - medžiagos iš aliuminio, įkainių lentelėje nenurodytos 1-4 pozicijose",22101000820112]
[182,"ASBU 4x70","1 kabelio 1 km",3220,"Prekė - medžiagos iš aliuminio, įkainių lentelėje nenurodytos 1-4 pozicijose",22101000820112]
[183,"ASBU 4x70*","1 kabelio 1 km",3470,"Prekė - medžiagos iš aliuminio, įkainių lentelėje nenurodytos 1-4 pozicijose",22101000820112]
[184,"ASBU 4x95","1 kabelio 1 km",3752,"Prekė - medžiagos iš aliuminio, įkainių lentelėje nenurodytos 1-4 pozicijose",22101000820112]
[185,"ASBU 4x95*","1 kabelio 1 km",4046,"Prekė - medžiagos iš aliuminio, įkainių lentelėje nenurodytos 1-4 pozicijose",22101000820112]
[186,"ASBU 4x120","1 kabelio 1 km",4468,"Prekė - medžiagos iš aliuminio, įkainių lentelėje nenurodytos 1-4 pozicijose",22101000820112]
[187,"ASBU 4x120*","1 kabelio 1 km",4995,"Prekė - medžiagos iš aliuminio, įkainių lentelėje nenurodytos 1-4 pozicijose",22101000820112]
[null,"0,4 kV kabeliai aliuminio gyslomis švino apvalkale"]
[188,"ASBU 3x35+1x16","1 kabelio 1 km",2054,"Prekė - medžiagos iš aliuminio, įkainių lentelėje nenurodytos 1-4 pozicijose",22101000820112]
[189,"ASBU  3x50+1x25","1 kabelio 1 km",2323,"Prekė - medžiagos iš aliuminio, įkainių lentelėje nenurodytos 1-4 pozicijose",22101000820112]
[190,"ASBU  3x70+1x25","1 kabelio 1 km",3070,"Prekė - medžiagos iš aliuminio, įkainių lentelėje nenurodytos 1-4 pozicijose",22101000820112]
[191,"ASBU  3x95+1x35","1 kabelio 1 km",3475,"Prekė - medžiagos iš aliuminio, įkainių lentelėje nenurodytos 1-4 pozicijose",22101000820112]
[192,"ASBU  3x120+1x35","1 kabelio 1 km",3961,"Prekė - medžiagos iš aliuminio, įkainių lentelėje nenurodytos 1-4 pozicijose",22101000820112]
[193,"ASBU  3x150+1x50","1 kabelio 1 km",4659,"Prekė - medžiagos iš aliuminio, įkainių lentelėje nenurodytos 1-4 pozicijose",22101000820112]
[194,"ASBU 3x150+1x50*","1 kabelio 1 km",5049,"Prekė - medžiagos iš aliuminio, įkainių lentelėje nenurodytos 1-4 pozicijose",22101000820112]
[195,"ASBU 3x185+1x50","1 kabelio 1 km",5384,"Prekė - medžiagos iš aliuminio, įkainių lentelėje nenurodytos 1-4 pozicijose",22101000820112]
[196,"ASBU 3x185+1x50*","1 kabelio 1 km",5631,"Prekė - medžiagos iš aliuminio, įkainių lentelėje nenurodytos 1-4 pozicijose",22101000820112]
[null,"Oro lonijų kabeliai"]
[197,"AMKA 1x16+25","1 kabelio 1 km",135,"Prekė - Al kabeliai su plastikine izoliacija",22101000550001]
[198,"AMKA 3x16+25","1 kabelio 1 km",270,"Prekė - Al kabeliai su plastikine izoliacija",22101000550001]
[199,"AMKA 4x16+25","1 kabelio 1 km",330,"Prekė - Al kabeliai su plastikine izoliacija",22101000550001]
[200,"AMKA 3x25+35","1 kabelio 1 km",390,"Prekė - Al kabeliai su plastikine izoliacija",22101000550001]
[201,"AMKA 3x35+50","1 kabelio 1 km",530,"Prekė - Al kabeliai su plastikine izoliacija",22101000550001]
[202,"AMKA 3x50+70","1 kabelio 1 km",700,"Prekė - Al kabeliai su plastikine izoliacija",22101000550001]
[203,"AMKA 3x70+95","1 kabelio 1 km",1000,"Prekė - Al kabeliai su plastikine izoliacija",22101000550001]
[204,"AMKA 3x120+95","1 kabelio 1 km",1500,"Prekė - Al kabeliai su plastikine izoliacija",22101000550001]
[null,"0,4 kV kabeliai aliuminio gyslomis PVC/PE apvalkale"]
[205,"Al 4X70","1 kabelio 1 m",1.24,"Prekė - Al kabeliai su plastikine izoliacija",22101000550001]
[206,"Al 4x120","1 kabelio 1 m",2,"Prekė - Al kabeliai su plastikine izoliacija",22101000550001]
[207,"Al 4x240","1 kabelio 1 m",3.75,"Prekė - Al kabeliai su plastikine izoliacija",22101000550001]
[]
[null,null,"Rangos darbų sutarties Nr."]
[null,"Rangovas","pasirinkti"]
[null,null,null,"iš II etapo"]
[]
[null,null,null,null,"Klaipėdos energetika AB","40410/521604"]
[null,"ATP Baltic UAB","40410/591349","iš II etapo","Klaipėdos energetika AB","40410/521375"]
[null,null,null,null,"Klaipėdos energetika AB","40410/591332"]
[null,null,null,null,"Klaipėdos energetika AB","40410/591343"]
[null,null,null,null,"Klaipėdos energetika AB","40410/591347",null,"Nutrauktos darbų sutartys"]
[null,null,null,null,"Klaipėdos energetika AB","40410/591345"]
[null,null,null,null,"Klaipėdos energetika AB","40410/591342",null,"Apšvietimas UAB","40410/591698","iš IlI etapo"]
[null,null,null,null,"Klaipėdos energetika AB","40410/511415",null,"Apšvietimas UAB","40410/591716","iš IlI etapo"]
[null,null,null,null,"Klaipėdos energetika AB","40410/521233",null,"Elektra ir Co UAB","40410/591711","iš IlI etapo"]
[null,null,null,null,null,null,null,"EXTO UAB","40410/591710","iš IlI etapo"]
[null,null,null,null,null,null,null,"Klaipėdos energetika AB","40410/591342","iš II etapo"]
[null,"Elektrifikacijos darbai UAB","40410/521619",null,null,null,null,null,null,null,null,"Elektra ir Co UAB","40410/530586"]
[null,"Elektrifikacijos darbai UAB","40410/591353","iš II etapo","Elektromontuotojas UAB","40410/530560",null,null,null,null,null,"Elektra ir Co UAB","40410/530457"]
[null,null,null,null,"Elektromontuotojas UAB","40410/521380",null,null,null,null,null,"Elektra ir Co UAB","40410/530421"]
[null,"Elektros tinklas UAB","40410/511734",null,"Elektromontuotojas UAB","40410/521300",null,null,null,null,null,"Elektra ir Co UAB","40410/530200"]
[null,"Elektros tinklas UAB","40410/591344","iš II etapo","Elektromontuotojas UAB","40410/521299",null,null,null,null,null,"Elektra ir Co UAB","40410/522371"]
[null,"Elektros tinklas UAB","40410/522022",null,"Elektromontuotojas UAB","40410/591350","iš II etapo",null,null,null,null,"Elektra ir Co UAB","40410/522343"]
[null,"Elektros tinklas UAB","40410/522243",null,"Elektromontuotojas UAB","40410/591705","iš IlI etapo",null,null,null,null,"Elektra ir Co UAB","40410/522344"]
[null,null,null,null,"Elektromontuotojas UAB","40410/511072",null,null,null,null,null,"Elektra ir Co UAB","40410/521660"]
[null,"TETAS UAB","40410/530254",null,"Elektromontuotojas UAB","40410/511822",null,null,null,null,null,"Elektra ir Co UAB","40410/521624"]
[null,"TETAS UAB","40410/530008",null,null,null,null,null,null,null,null,"Elektra ir Co UAB","40410/521426"]
[null,"TETAS UAB","40410/522421",null,null,null,null,null,null,null,null,"Elektra ir Co UAB","40410/521377"]
[null,"TETAS UAB","40410/522196",null,null,null,null,null,null,null,null,"Elektra ir Co UAB","40410/521376"]
[null,"TETAS UAB","40410/521979",null,null,null,null,null,null,null,null,"Elektra ir Co UAB","40410/591346"]
[null,"TETAS UAB","40410/521659",null,null,null,null,null,null,null,null,"Elektra ir Co UAB","40410/591715"]
[null,"TETAS UAB","40410/511442 ",null,null,null,null,null,null,null,null,"Elektra ir Co UAB","40410/591699"]
[null,"TETAS UAB","40410/511646",null,null,null,null,null,null,null,null,"Elektra ir Co UAB","40410/591701"]
[null,"TETAS UAB","40410/511490",null,"Fisanta UAB","40410/511191",null,null,null,null,null,"Elektra ir Co UAB","40410/591706"]
[null,"TETAS UAB","40410/591335","iš II etapo","Fisanta UAB","40410/511189",null,null,null,null,null,"Elektra ir Co UAB","40410/591702"]
[null,"TETAS UAB","40410/591340","iš II etapo",null,null,null,null,null,null,null,"Elektra ir Co UAB","40410/591718"]
[null,"Vilniaus energetinė statyba AB","40410/591351","iš II etapo",null,null,null,null,null,null,null,"Elektra ir Co UAB","40410/591703"]
[null,null,null,null,"Elektros pajėgos UAB","40410/530382",null,null,null,null,null,"Elektra ir Co UAB","40410/501495"]
[null,null,null,null,"Elektros pajėgos UAB","40410/511190",null,null,null,null,null,"Elektra ir Co UAB","40410/591697"]
[null,null,null,null,"Elektros pajėgos UAB","40410/520940",null,null,null,null,null,"Elektra ir Co UAB","40410/511429"]
[null,null,null,null,null,null,null,null,null,null,null,"Elektra ir Co UAB","40410/511425"]
[null,null,null,null,null,null,null,null,null,null,null,"Elektra ir Co UAB","40410/511932"]
[null,null,null,null,"Elektra UAB","40410/511126",null,null,null,null,null,"Elektra ir Co UAB","40410/512225"]
[null,null,null,null,null,null,null,null,null,null,null,"Elektra ir Co UAB","40410/520137"]
[null,null,null,null,null,null,null,null,null,null,null,"Elektra ir Co UAB","40410/520171"]
[null,"EXTO UAB","40410/521658",null,null,null,null,null,null,null,null,"Elektra ir Co UAB","40410/520855"]
[null,"EXTO UAB","40410/591708","iš IlI etapo","Vadema UAB","40410/530714",null,null,null,null,null,"Elektra ir Co UAB","40410/521234"]
[null,"Kugeta UAB","40410/501555","Naujas, vietoj nutraukto","Vadema UAB","40410/522348",null,null,null,null,null,"Elektra ir Co UAB","40410/521199"]
[null,null,null,null,"Vadema UAB","40410/521617"]
[null,"Vakarų energetika, UAB","40410/510546",null,"Vadema UAB","40410/521202"]
[null,"Vakarų energetika, UAB","40410/520160",null,"Vadema UAB","40410/510549"]
[null,null,null,null,"Vadema UAB","40410/511192"]
[null,"Energetikos ranga, UAB","40410/510556",null,null,null,null,"Elektrovoltas UAB","40410/530709"]
[null,"Elektromontuotojas UAB","40410/511072",null,null,null,null,"Elektrovoltas UAB","40410/530534"]
[null,"Rangovas",null,null,null,null,null,"Elektrovoltas UAB","40410/520021"]
[null,"pasirinkti"]
[null,"Anykščių energetinė statyba UAB"]
[null,"ATP Baltic UAB"]
[null,"APS grupė UAB"]
[null,"Apšvietimas UAB"]
[null,"Bosleta UAB"]
[null,"Elektra ir Co UAB"]
[null,"Elektra UAB",null,null,null,null,null,"Elektrifikacijos paslaugos UAB","40410/520035"]
[null,"Elektrifikacijos darbai UAB"]
[null,"Elektrifikacijos paslaugos UAB"]
[null,"Elektromontuotojas UAB"]
[null,"Elektros pajėgos UAB"]
[null,"Elektros tinklas UAB"]
[null,"Elektrovoltas UAB"]
[null,"Elmova UAB",null,null,null,null,null,"Indastrus UAB","40410/520036",null,null,"Anykščių energetinė statyba UAB","40410/530716"]
[null,"Energetikos ranga UAB",null,null,null,null,null,"Indastrus UAB","40410/520376",null,null,"Anykščių energetinė statyba UAB","40410/591341"]
[null,"Energika UAB",null,null,null,null,null,null,null,null,null,"Anykščių energetinė statyba, UAB","40410/510548"]
[null,"Energo LT UAB",null,null,null,null,null,null,null,null,null,"Anykščių energetinė statyba, UAB","40410/521201"]
[null,"Energostatika UAB",null,null,"Bosleta UAB","40410/511193"]
[null,"EXTO UAB"]
[null,"Fisanta UAB"]
[null,"Indastrus UAB",null,null,"Elmova UAB","40410/530239"]
[null,"Klaipėdos energetika AB",null,null,"Elmova UAB","40410/522019",null,"Apšvietimas UAB","40410/520012"]
[null,"Kugeta UAB",null,null,"Elmova UAB","40410/521618",null,"Apšvietimas UAB","40410/521301"]
[null,"TETAS UAB",null,null,"Elmova UAB","40410/521606"]
[null,"Vadema UAB",null,null,"Elmova UAB","40410/511650"]
[null,"Vakarų energetika UAB",null,null,"Elmova UAB","40410/511796"]
[null,"Vilniaus energetinė statyba AB"]
[null,"Vytrita UAB"]
[]
[null,null,null,null,"Energika UAB","40410/530252"]
[null,null,null,null,"Energika UAB","40410/521373"]
[null,null,null,null,"Energika UAB","40410/591333"]
[null,null,null,null,"Energika UAB","40410/591720",null,"Energo LT UAB","40410/521374"]
[null,null,null,null,"Energika UAB","40410/591713",null,"Energo LT UAB","40410/501535"]
[null,null,null,null,"Energika UAB","40410/501494"]
[null,null,null,null,"Energika UAB","40410/501517"]
[null,"Vytrita UAB","40410/530383",null,"Energika, UAB","40410/510557"]
[null,"Vytrita UAB","40410/522369",null,"Energika, UAB","40410/510547"]
[null,"Vytrita UAB","40410/521783",null,"Energika, UAB","40410/511672"]
[null,"Vytrita UAB","40410/521605",null,"Energika, UAB","40410/511693"]
[null,"Vytrita UAB","40410/521601",null,"Energika, UAB","40410/521192"]
[null,"Vytrita UAB","40410/521302"]
[null,"Vytrita UAB","40410/591352"]
[null,"Vytrita UAB","40410/591336"]
[null,"Vytrita UAB","40410/591339",null,"Energostatika, UAB","40410/522247"]
[null,"Vytrita UAB","40410/591717",null,"Energostatika, UAB","40410/510561"]
[null,"Vytrita UAB","40410/591719",null,"Energostatika, UAB","40410/521216"]
[null,"Vytrita UAB","40410/501553"]
[null,"Vytrita UAB","40410/510675"]
[null,"Vytrita UAB","40410/510555"]
[null,"Vytrita UAB","40410/510562"]
[null,"Vytrita UAB","40410/511129"]
[null,"Vytrita UAB","40410/511114"]
[null,"Vytrita UAB","40410/511413",null,"APS grupė, UAB","40410/530259"]
[null,"Vytrita UAB","40410/511414",null,"APS grupė, UAB","40410/530253"]
[null,"Vytrita UAB","40410/520017"]
[null,"Vytrita UAB","40410/520020"]
[null,"Vytrita UAB","40410/520041"]
[null,"Vytrita UAB","40410/520701"]
[]
[]
[]
[]
[]
[null,"Rangovas"]
[null,"pasirinkti"]
[null,"A Žilinskio ir Ko UAB"]
[null,"Alkesta UAB"]
[null,"Anykščių energetinė statyba UAB"]
[null,"APS Energyline UAB"]
[null,"APS grupė UAB"]
[null,"Apšvietimas UAB"]
[null,"Aremsa UAB"]
[null,"ATP Baltic UAB"]
[null,"Bosleta UAB"]
[null,"Elektra ir Co UAB"]
[null,"Elektra UAB"]
[null,"Elektrifikacijos darbai UAB"]
[null,"Elektrifikacijos paslaugos UAB"]
[null,"Elektro LT UAB"]
[null,"Elektromontuotojas UAB"]
[null,"Elektros darbai UAB"]
[null,"Elektros pajėgos UAB"]
[null,"Elektros tinklas UAB"]
[null,"Elektros tinklų statyba AB"]
[null,"Elektrovoltas UAB"]
[null,"Elmava UAB"]
[null,"Elmonta UAB"]
[null,"Elmova UAB"]
[null,"Elvaradas UAB"]
[null,"Energetikos ranga UAB"]
[null,"Energetikos tinklų institutas AB"]
[null,"Energijos skirstymo operatorius AB"]
[null,"Energika UAB"]
[null,"EnergoLT UAB"]
[null,"Energostatika UAB"]
[null,"Eresta UAB"]
[null,"ES Energy UAB"]
[null,"Exto UAB"]
[null,"Fisanta UAB"]
[null,"Hidro Elektra UAB"]
[null,"Indastrus UAB"]
[null,"Jarkesta UAB"]
[null,"Kalistara UAB"]
[null,"Klaipėdos energetika AB"]
[null,"Kugeta UAB"]
[null,"Labas GAS UAB"]
[null,"Neiluva UAB"]
[null,"Pažangi energetika UAB"]
[null,"Šiaulių Rymonta UAB"]
[null,"Skominta UAB"]
[null,"Statkorpas AB"]
[null,"Stiemo UAB"]
[null,"TETAS UAB"]
[null,"Vadema UAB"]
[null,"Vakarų energetika UAB"]
[null,"Vilniaus energetinė statyba AB"]
[null,"Vilniaus inžinerija UAB"]
[null,"Vytmarca MB"]
[null,"Vytrita UAB"]
[null,"Žemaitijos energetika UAB"]
[null,"Žilinskis ir Co UAB"]

{"sheet":"Rekvizitai","index":3,"n_rows":61,"n_cols":5,"rows_kept":61,"cut":false,"hidden":true,"merged":[]}
[null,"Rangovas","Adresas","Įmonės kodas","PVM kodas"]
["Anykščių energetinė statyba UAB","Uždaroji akcinė bendrovė „Anykščių energetinė statyba\"","Stoties g. 5, LT-29107 Anykščiai","Įmonės kodas: 154229968","PVM kodas: LT542299610"]
["ATP Baltic UAB","UAB „ATP Baltic“","Vaduvos g. 30C-32, LT-02307 Vilnius","Įmonės kodas: 303259235","PVM kodas: LT100008426016"]
["Elektra ir Co UAB","„Elektra ir Co“, UAB","Užtvankos g. 17, LT-74202 Dainiai","Įmonės kodas: 304214232","PVM kodas: LT100010503811"]
["Elektrifikacijos darbai UAB","Uždaroji akcinė bendrovė „ELEKTRIFIKACIJOS DARBAI“","P. Armino g. 71a, LT-68127 Marijampolė","Įmonės kodas: 151241673","PVM kodas: LT512416716"]
["Elektromontuotojas UAB","Uždaroji akcinė bendrovė „Elektromontuotojas“","Technikos g. 25, LT-51335 Kaunas","Įmonės kodas: 132439736","PVM kodas: LT324397314"]
["Elektros tinklas UAB","UAB „ELEKTROS TINKLAS“","Motorų g. 6, LT-02190, Vilnius","Įmonės kodas: 300541635","PVM kodas: LT100002248415"]
["Energika UAB","UAB „Energika“ ","Atramos g. 2, LT-47174 Kaunas ","Įmonės kodas: 303917434","PVM kodas: LT100009251716 "]
["Klaipėdos energetika AB","Akcinė bendrovė „KLAIPĖDOS ENERGETIKA“  ","Liepų 66, LT – 92100 Klaipėda ","Įmonės kodas: 140724749","PVM kodas: LT407247414"]
["TETAS UAB","UAB „TETAS“","Senamiesčio g. 102b, LT-35116 Panevėžys","Įmonės kodas: 300513148","PVM kodas: LT100002045610 "]
["Vilniaus energetinė statyba AB","AB „Vilniaus energetinė statyba“","Jočionių g. 53, LT-02053, Vilnius","Įmonės kodas: 222354530","PVM kodas: LT223545314"]
["Vytrita UAB","Uždaroji akcinė bendrovė „Vytrita“","Atramos g. 2, LT-47174 Kaunas ","Įmonės kodas: 133858826","PVM kodas: LT338588219 "]
["Indastrus UAB","UAB \"INDASTRUS\"","Pajuostė pl. 36, LT-36104, Panevėžys","Įmonės kodas: 148428467","PVM kodas: LT484284610 "]
["Apšvietimas UAB","Uždaroji akcinė bendrovė „Apšvietimas“","Perspektyvos g. 18, Kaunas ","Įmonės kodas: 132343314","PVM kodas: LT323433113"]
["EXTO UAB","UAB „Exto“","Pramonės g. 24G, Šiauliai","Įmonės kodas: 300557116","PVM kodas: LT100002735516"]
["Kugeta UAB","UAB „Kugeta“","Vytauto g. 71, 98121 Skuodas","Įmonės kodas: 273905010","PVM kodas: LT739050113"]
["Energo LT UAB","UAB „EnergoLT“","Stumbro g. 3, Šakių k, 47413 Kauno r.","Įmonės kodas: 302551560","PVM kodas: LT100005697314"]
["Vakarų energetika UAB","UAB \"Vakarų energetika\"","Gluosnio g. 11, Plikiai, 96231 Klaipėdos raj.","Įmonės kodas: 304048419","PVM kodas: LT100009511211"]
["Vadema UAB","UAB „Vadema“","Atramos g. 2, 47174 Kaunas ","Įmonės kodas: 249894650","PVM kodas: LT498946515"]
["Energostatika UAB","UAB „Energostatika“","Tartoko g. 5, Jašiūnų glž. st., LT-17251 Šalčininkų r.","Įmonės kodas: 303007711","PVM kodas: LT100007584418 "]
["Energetikos ranga UAB","UAB „Energetikos ranga\"","V. Nagevičiaus g. 3, 08237 Vilnius ","Įmonės kodas: 304758522","PVM kodas: LT100011447913 "]
["Fisanta UAB","UAB „Fisanta“","Varpo g. 25, 76298 Šiauliai","Įmonės kodas: 144951210","PVM kodas: LT449512113"]
["Elektros pajėgos UAB","UAB „Elektros pajėgos“","Saulėtekio g. 8, 19125 Širvintos","Įmonės kodas: 302598688","PVM kodas: LT100005967019"]
["Elektra UAB","UAB „Elektra“","Gedimino g. 24A, LT-21118 Trakai","Įmonės kodas: 181107267","PVM kodas: LT811072610"]
["Bosleta UAB","UAB „Bosleta“","Architektų g. 56-101, Vilnius","Įmonės kodas: 303280973","PVM kodas: LT100008583617"]
["Elmova UAB","UAB „Elmova\"","Goštautų g. 3, 48324 Kaunas","Įmonės kodas: 234007320","PVM kodas: LT340073219"]
["Elektrovoltas UAB","UAB „Elektrovoltas“","Pramonės g. 19, 87101 Telšiai","Įmonės kodas: 180703727","PVM kodas: LT807037219"]
["Elektrifikacijos paslaugos UAB","UAB „Elektrifikacijos paslaugos“","Šilutės pl. 107, 95112 Klaipėda","Įmonės kodas: 300014907","PVM kodas: LT100000947118"]
["Indastrus UAB","UAB „Indastrus“","Trakiškio g. 1, 35115 Panevėžys","Įmonės kodas: 148428467","PVM kodas: LT484284610"]
["Apšvietimas UAB","UAB „Apšvietimas“","Ateities pl. 45D, 52119 Kaunas","Įmonės kodas: 132343314","PVM kodas: LT323433113"]
["APS grupė UAB","UAB „APS grupė“","Kalvarijų g. 300, 08318 Vilnius","Įmonės kodas: 302498905","PVM kodas: LT100005360013"]
["Neiluva UAB","UAB „Neiluva“","Naugarduko g. 41A, 03227 Vilnius","Įmonės kodas: 121959187","PVM kodas: LT219591811"]
["A Žilinskio ir Ko UAB","UAB „A. Žilinskio ir Ko“","Užtvankos g. 17, Dainiai, 74202 Jurbarko r.","Įmonės kodas: 158102142","PVM kodas: LT581021411"]
["Aremsa UAB","UAB „Aremsa“","Partizanų g. 78-7, 50349 Kaunas","Įmonės kodas: 304295782","PVM kodas: LT100011364210"]
["Elektro LT UAB","UAB „Elektro LT\"","Taikos pr. 86-81, 51274 Kaunas","Įmonės kodas: 302291422","PVM kodas: LT100004476919"]
["Elektros darbai UAB","UAB „Elektros darbai“","Jonavos g. 62A, 44192 Kaunas","Įmonės kodas: 133619018","PVM kodas: LT336190113"]
["Elektros tinklų statyba AB","AB „Elektros tinklų statyba“","Motorų g. 4, 02190 Vilnius","Įmonės kodas: 111728584","PVM kodas: LT117285811"]
["Elmava UAB","UAB „Elmava“","P. Vileišio g. 6F, 10308 Vilnius","Įmonės kodas: 125390139","PVM kodas: LT253901314"]
["Elmonta UAB","UAB „Elmonta\"","Motorų g. 6, 02190 Vilnius","Įmonės kodas: 122217769","PVM kodas: LT100000013913"]
["Elvaradas UAB","UAB „Elvaradas“","J.Basanavičiaus g. 23-2, 75124 Šilalė","Įmonės kodas: 176633746","PVM kodas: LT766337419"]
["Energetikos tinklų institutas AB","AB „Energetikos tinklų institutas“","Kampo g. 7, 50153 Kaunas","Įmonės kodas: 132129036","PVM kodas: LT321290314"]
["Energijos skirstymo operatorius AB","AB „Energijos skirstymo operatorius“","Laisvės pr. 10, LT-04215 Vilnius ","Įmonės kodas: 304151376","PVM kodas: LT100009860612"]
["EnergoLT UAB","UAB „EnergoLT“","Stumbro g. 3, Šakių k, 47413 Kauno r.","Įmonės kodas: 302551560","PVM kodas: LT100005697314"]
["Eresta UAB","UAB „Eresta“","Sakalaičių sodų 6-oji g.31, 02216 Vilnius","Įmonės kodas: 301490670","PVM kodas: LT100003688819"]
["ES Energy UAB","UAB „ES Energy“","Islandijos pl. 217-8, 49165 Kaunas ","Įmonės kodas: 305997621","PVM kodas: LT100014710718"]
["Jarkesta UAB","UAB „Jarkesta“","Senkelio g. 6A, Narezkai, LT-21143 Trakų r.","Įmonės kodas: 300555179","PVM kodas: "]
["Kalistara UAB","UAB „Kalistara“","Išradėjų g. 13B, 78149 Šiauliai","Įmonės kodas: 300665864","PVM kodas: LT100004354518 "]
["Nekta IĮ","IĮ „Nekta“","Pergalės g. 9-36, 26127 Elektrėnai","Įmonės kodas: 300008605","PVM kodas: LT100000889712"]
["Statkorpas AB","Statkorpas, AB","Savitiškio g. 10F, 37371 Panevėžys","Įmonės kodas: 147651620","PVM kodas: LT476516219"]
["Stiemo UAB","UAB „Stiemo“","Islandijos pl. 217-8, LT-49165 Kaunas","Įmonės kodas: 303477554","PVM kodas: LT100009412718"]
["Šiaulių Rymonta UAB","UAB „Šiaulių Rymonta“","Smėlynės g. 112, LT-35113 Panevėžys","Įmonės kodas: 145841261","PVM kodas: LT458412610"]
["Vytmarca MB","MB „Vytmarca“","Girelės g. 4, 56133 Kaišiadorys","Įmonės kodas: 304603397","PVM kodas: LT100011251919"]
["Žemaitijos energetika UAB","UAB „Žemaitijos energetika“","Deltuvos g. 24, 20118 Ukmergė","Įmonės kodas: 180709370","PVM kodas: LT807093716"]
["Žilinskis ir Co UAB","UAB „Žilinskis ir Co“","Ateities pl. 31, LT-52167 Kaunas","Įmonės kodas: 304317232","PVM kodas: LT100010333316"]
["Hidro Elektra UAB","UAB „Hidro Elektra“","Polocko g. 17-54, LT-01205 Vilnius","Įmonės kodas: 305441603","PVM kodas: LT100012945712"]
["Labas GAS UAB","UAB „Labas GAS“","Ateities pl. 45A, 52119 Kaunas","Įmonės kodas: 124552684","PVM kodas: LT245526811"]
["Alkesta UAB","UAB „Alkesta\"","Naujoji g. 118, 62175 Alytus ","Įmonės kodas: 249672710","PVM kodas: LT496727113"]
["Pažangi energetika UAB","UAB „Pažangi energetika\"","Nevėžio g. 31, LT-58158, Paobelio k. Kėdainių raj.","Įmonės kodas: 305564755","PVM kodas: LT457300010163496626"]
["Skominta UAB","UAB „Skominta“","Naugarduko 97, 03202 Vilnius","Įmonės kodas: 147895076","PVM kodas: LT478950716"]
["Vilniaus inžinerija UAB","UAB „Vilniaus inžinerija“","Visorių Sodų 15-oji g. 28, 08451 Vilnius","Įmonės kodas: 303049703","PVM kodas: LT100009659010"]
["APS Energyline UAB","UAB ,,APS Energyline\"","Eigulių g. 27, LT-03150 Vilnius ","Įmonės kodas: 306667683","PVM kodas: LT100016818811"]